BEGIN:VCALENDAR
VERSION:2.0
PRODID:-//wob Würzburgs Wochenzeitung - ECPv6.15.18//NONSGML v1.0//EN
CALSCALE:GREGORIAN
METHOD:PUBLISH
X-WR-CALNAME:wob Würzburgs Wochenzeitung
X-ORIGINAL-URL:https://wob24.net
X-WR-CALDESC:Veranstaltungen für wob Würzburgs Wochenzeitung
REFRESH-INTERVAL;VALUE=DURATION:PT1H
X-Robots-Tag:noindex
X-PUBLISHED-TTL:PT1H
BEGIN:VTIMEZONE
TZID:Europe/Berlin
BEGIN:DAYLIGHT
TZOFFSETFROM:+0100
TZOFFSETTO:+0200
TZNAME:CEST
DTSTART:20240331T010000
END:DAYLIGHT
BEGIN:STANDARD
TZOFFSETFROM:+0200
TZOFFSETTO:+0100
TZNAME:CET
DTSTART:20241027T010000
END:STANDARD
BEGIN:DAYLIGHT
TZOFFSETFROM:+0100
TZOFFSETTO:+0200
TZNAME:CEST
DTSTART:20250330T010000
END:DAYLIGHT
BEGIN:STANDARD
TZOFFSETFROM:+0200
TZOFFSETTO:+0100
TZNAME:CET
DTSTART:20251026T010000
END:STANDARD
BEGIN:DAYLIGHT
TZOFFSETFROM:+0100
TZOFFSETTO:+0200
TZNAME:CEST
DTSTART:20260329T010000
END:DAYLIGHT
BEGIN:STANDARD
TZOFFSETFROM:+0200
TZOFFSETTO:+0100
TZNAME:CET
DTSTART:20261025T010000
END:STANDARD
END:VTIMEZONE
BEGIN:VEVENT
DTSTART;TZID=Europe/Berlin:20250815T110000
DTEND;TZID=Europe/Berlin:20250816T010000
DTSTAMP:20260419T184512
CREATED:20250729T102012Z
LAST-MODIFIED:20250729T102046Z
UID:25177-1755255600-1755306000@wob24.net
SUMMARY:Fränkisches Weinfest Volkach
DESCRIPTION:Fränkisches Weinfest Volkach vom 15. bis 19. August – Jubiläums-Festzug mit Musik\, Trachtengruppen und Kutschen \nDas 75. Fränkische Weinfest Volkach findet in diesem Jahr zwischen dem 15. und 19. August 2025 unter dem Motto „Kult\, Kultur & Weingenuss – damals wie heute“ statt. Die einmalige Festplatz-Kulisse unter Allee-Bäumen\, kulinarische Leckerbissen\, musikalische Höhepunkte und elf Festwinzer mit über 60 Schoppenweinen der Volkacher Mainschleife zeichnen das größte Weinfest Frankens aus. Aus Anlass des 75. Jubiläums findet am Sonntag ein großer Festzug statt. \nFreitag\, 15. August 2025 (Feiertag Mariä Himmelfahrt)\n11:00 – 13:00 Uhr Frühschoppen mit der Fränkisch Swing Big Band \n14:00 – 17:00 Uhr Die Fränkischen Freunde – Blasmusik pur \n19:00 – 1:00 Uhr Die Partyräuber – Mix aus Bayerischer Volksmusik & mitreisenden Party-Hits \n20:30 Uhr Einzug des Weinadels der Mainschleife & der Ehrengäste (Einzug-Musik: Stadtkapelle Volkach) \nDie Vielfalt des Weines\nDie elf teilnehmenden Weingüter und Genossenschaften bieten ein breites Wein-Portfolio für alle Geschmacksrichtungen an. Außerdem lädt wieder die Franken-Lounge mit erlesenen Bocksbeutelweinen\, Secco & Weincocktails zum Probieren und Verweilen ein. \nWährend des fünftägigen Weinfestes sind im überwiegenden Teil Weißweine im Ausschank – an erster Stelle die Rebsorte Silvaner. Der Rest verteilt sich auf Rotweine und Rotling. Hinter elf Weinständen verbergen sich sieben selbstvermarktende Weingüter und vier Winzergenossenschaften. \nTourismus-Chef und Festleiter Sebastian Karl freut sich sehr\, dass aufgrund der Unterstützung der Sponsoren wie auch der ausschenkenden Festbetriebe die Preise nicht erhöht werden mussten. „In Zeiten der immer weiter steigenden Kosten sind wir stolz darauf\, dass wir fast alle unsere Angebote auf dem Fränkischen Weinfest in Volkach auf dem Preisniveau des Vorjahres halten konnten.“ \nEin Highlight ist der große Jubiläumsfestzug: Weinadel\, Symbolfiguren\, Trachtengruppen\, Musikkapellen\, Pferdekutschen und Abordnungen der Vereine ziehen gemeinsam am Sonntag\, 17. August\, 15 Uhr\, durch die Altstadt zum Festgelände von der Sommeracher Straße über Oberer Markt\, Hauptstraße und Josef-Wächter-Straße. \nDer Weinfest-Veranstalter Stadt Volkach erwartet viele tausend Besucher – in den vergangenen Jahren kamen rund 50.000 bis 60.000 Besucher je nach Wetterlage. Durch den Zusatztag am Dienstag haben die Besucher eine größere Auswahl\, wann und wie oft sie das Fest besuchen. Die Ausschankzeiten der Weinstände: Freitag (Feiertag) 11 bis 1 Uhr\, Samstag 14 bis 1 Uhr\, Sonntag\, 11 bis 1 Uhr\, Montag 14 bis 0.30 Uhr und Dienstag\, 18 bis 0.15 Uhr. \nKulinarisches\n13 Cateringbetriebe bieten Spezialitäten vom Grill\, aus dem Backofen und aus der Pfanne wie z.B. Crêpes\, Käse\, Spätzle\, Pizza\, gebratene Nudeln\, Dinnete und vieles mehr. Selbstverständlich gibt es an den Essensständen auch Vegetarisches für den kleinen und großen Hunger. \nMusikalisches und Funkelndes\nEtwas auf die Ohren gibt es im Bereich Stimmungskapellen und -bands unter anderem von der Partyband „Die Partyräuber“ (Freitag)\, „Die Frankenbengel“ (Samstag)\, „The Jets“ (Sonntag) und zum Weinfest-Endspurt „Die Bayernmafia“ (Montag). Der neue Volkacher Lichterzauber zum Weinfest-Finale am Montag ist für 22:30 Uhr terminiert. Zur Weinfest-Zugabe am Dienstag bei freiem Eintritt gibt es einen Beatabend mit Lost in Tunes. \nAuch bei der Jubiläums-Ausgabe des Weinfestes gibt es die beliebten Weinfestfrühschoppen: Am Freitag (Feiertag) spielt die Fränkisch Swing Big Band auf\, am Sonntag sorgt die Musikkapelle Escherndorf für die musikalische Umrahmung des Blasmusik-Frühschoppens. Außerdem sind während des Weinfestes zu hören: „Die Fränkischen Freunde“ (Blasmusik pur\, Freitag)\, die Stadtkapelle Volkach (Samstag)\, das Symphonische Blasorchester Volkach (Sonntag) und das Jugendblasorchester der Musikschule Volkach (Montag). \nKein Fest ohne Fahrgeschäfte: Deswegen lädt der große Volksfestplatz direkt am Weinfestplatz gelegen zum Bummeln und Spaß haben ein. Das Volksfestunternehmen Uebel & Sachs aus Schweinfurt-Niederwerrn hat ein vielfältiges Angebot für die ganze Familie zusammengestellt. Der Montagnachmittag gehört der ganzen Familie mit vergünstigten Fahrpreisen bis 18 Uhr. Wer mit dem Trikot seines Heimatvereins kommt\, erhält eine kleine Überraschung. Außerdem im Programm:  die Kinder-Zauber-Show und die Abenteuer-Show „Piratenschatz“\, Kinderschminken\, Glitzertattoos und Glücksrad. Im Rummelplatzbereich ist der Eintritt stets frei! \nDas kostet der Spaß\nDas Fest ist eintrittspflichtig: Die Tageskarte kostet 3 Euro\, die Dauerkarte 7 Euro. Am Dienstag (Weinfest-Zugabe) ist der Eintritt frei. \nWer sein Auto stehen lassen möchte\, reist bequem per Bahn mit der Mainschleifenbahn oder mit den Freizeitlinien Mainschleifen-Express und Mainschleifenshuttle via Bus an. Bis in die Nacht hinein sind die Busse einschließlich Weinfestmontag on tour. Alle Info zum Fest: www.volkach.de und Tel. 09381/40112
URL:https://wob24.net/event/fraenkisches-weinfest-volkach/
LOCATION:Volkach Festgelände\, Gaibacher Straße\, Volkach
CATEGORIES:Weinfest
ATTACH;FMTTYPE=image/jpeg:https://wob24.net/wp-content/uploads/2025/07/Veranstaltung-Volkacher-Weinfest-1.jpg
END:VEVENT
BEGIN:VEVENT
DTSTART;TZID=Europe/Berlin:20250816T140000
DTEND;TZID=Europe/Berlin:20250817T010000
DTSTAMP:20260419T184512
CREATED:20250729T102443Z
LAST-MODIFIED:20250729T102450Z
UID:25180-1755352800-1755392400@wob24.net
SUMMARY:Fränkisches Weinfest Volkach
DESCRIPTION:Fränkisches Weinfest Volkach vom 15. bis 19. August – Jubiläums-Festzug mit Musik\, Trachtengruppen und Kutschen \nDas 75. Fränkische Weinfest Volkach findet in diesem Jahr zwischen dem 15. und 19. August 2025 unter dem Motto „Kult\, Kultur & Weingenuss – damals wie heute“ statt. Die einmalige Festplatz-Kulisse unter Allee-Bäumen\, kulinarische Leckerbissen\, musikalische Höhepunkte und elf Festwinzer mit über 60 Schoppenweinen der Volkacher Mainschleife zeichnen das größte Weinfest Frankens aus. Aus Anlass des 75. Jubiläums findet am Sonntag ein großer Festzug statt. \nSamstag\, 16. August 2025\n14:00 – 17:30 Uhr Stadtkapelle Volkach \n19:00 – 1:00 Uhr Frankenbengel – Partyband mit traditionellen & modernen Weinfest-Hits \nDie Vielfalt des Weines\nDie elf teilnehmenden Weingüter und Genossenschaften bieten ein breites Wein-Portfolio für alle Geschmacksrichtungen an. Außerdem lädt wieder die Franken-Lounge mit erlesenen Bocksbeutelweinen\, Secco & Weincocktails zum Probieren und Verweilen ein. \nWährend des fünftägigen Weinfestes sind im überwiegenden Teil Weißweine im Ausschank – an erster Stelle die Rebsorte Silvaner. Der Rest verteilt sich auf Rotweine und Rotling. Hinter elf Weinständen verbergen sich sieben selbstvermarktende Weingüter und vier Winzergenossenschaften. \nTourismus-Chef und Festleiter Sebastian Karl freut sich sehr\, dass aufgrund der Unterstützung der Sponsoren wie auch der ausschenkenden Festbetriebe die Preise nicht erhöht werden mussten. „In Zeiten der immer weiter steigenden Kosten sind wir stolz darauf\, dass wir fast alle unsere Angebote auf dem Fränkischen Weinfest in Volkach auf dem Preisniveau des Vorjahres halten konnten.“ \nEin Highlight ist der große Jubiläumsfestzug: Weinadel\, Symbolfiguren\, Trachtengruppen\, Musikkapellen\, Pferdekutschen und Abordnungen der Vereine ziehen gemeinsam am Sonntag\, 17. August\, 15 Uhr\, durch die Altstadt zum Festgelände von der Sommeracher Straße über Oberer Markt\, Hauptstraße und Josef-Wächter-Straße. \nDer Weinfest-Veranstalter Stadt Volkach erwartet viele tausend Besucher – in den vergangenen Jahren kamen rund 50.000 bis 60.000 Besucher je nach Wetterlage. Durch den Zusatztag am Dienstag haben die Besucher eine größere Auswahl\, wann und wie oft sie das Fest besuchen. Die Ausschankzeiten der Weinstände: Freitag (Feiertag) 11 bis 1 Uhr\, Samstag 14 bis 1 Uhr\, Sonntag\, 11 bis 1 Uhr\, Montag 14 bis 0.30 Uhr und Dienstag\, 18 bis 0.15 Uhr. \nKulinarisches\n13 Cateringbetriebe bieten Spezialitäten vom Grill\, aus dem Backofen und aus der Pfanne wie z.B. Crêpes\, Käse\, Spätzle\, Pizza\, gebratene Nudeln\, Dinnete und vieles mehr. Selbstverständlich gibt es an den Essensständen auch Vegetarisches für den kleinen und großen Hunger. \nMusikalisches und Funkelndes\nEtwas auf die Ohren gibt es im Bereich Stimmungskapellen und -bands unter anderem von der Partyband „Die Partyräuber“ (Freitag)\, „Die Frankenbengel“ (Samstag)\, „The Jets“ (Sonntag) und zum Weinfest-Endspurt „Die Bayernmafia“ (Montag). Der neue Volkacher Lichterzauber zum Weinfest-Finale am Montag ist für 22:30 Uhr terminiert. Zur Weinfest-Zugabe am Dienstag bei freiem Eintritt gibt es einen Beatabend mit Lost in Tunes. \nAuch bei der Jubiläums-Ausgabe des Weinfestes gibt es die beliebten Weinfestfrühschoppen: Am Freitag (Feiertag) spielt die Fränkisch Swing Big Band auf\, am Sonntag sorgt die Musikkapelle Escherndorf für die musikalische Umrahmung des Blasmusik-Frühschoppens. Außerdem sind während des Weinfestes zu hören: „Die Fränkischen Freunde“ (Blasmusik pur\, Freitag)\, die Stadtkapelle Volkach (Samstag)\, das Symphonische Blasorchester Volkach (Sonntag) und das Jugendblasorchester der Musikschule Volkach (Montag). \nKein Fest ohne Fahrgeschäfte: Deswegen lädt der große Volksfestplatz direkt am Weinfestplatz gelegen zum Bummeln und Spaß haben ein. Das Volksfestunternehmen Uebel & Sachs aus Schweinfurt-Niederwerrn hat ein vielfältiges Angebot für die ganze Familie zusammengestellt. Der Montagnachmittag gehört der ganzen Familie mit vergünstigten Fahrpreisen bis 18 Uhr. Wer mit dem Trikot seines Heimatvereins kommt\, erhält eine kleine Überraschung. Außerdem im Programm:  die Kinder-Zauber-Show und die Abenteuer-Show „Piratenschatz“\, Kinderschminken\, Glitzertattoos und Glücksrad. Im Rummelplatzbereich ist der Eintritt stets frei! \nDas kostet der Spaß\nDas Fest ist eintrittspflichtig: Die Tageskarte kostet 3 Euro\, die Dauerkarte 7 Euro. Am Dienstag (Weinfest-Zugabe) ist der Eintritt frei. \nWer sein Auto stehen lassen möchte\, reist bequem per Bahn mit der Mainschleifenbahn oder mit den Freizeitlinien Mainschleifen-Express und Mainschleifenshuttle via Bus an. Bis in die Nacht hinein sind die Busse einschließlich Weinfestmontag on tour. Alle Info zum Fest: www.volkach.de und Tel. 09381/40112
URL:https://wob24.net/event/fraenkisches-weinfest-volkach-2/
LOCATION:Volkach Festgelände\, Gaibacher Straße\, Volkach
CATEGORIES:Weinfest
ATTACH;FMTTYPE=image/jpeg:https://wob24.net/wp-content/uploads/2025/07/Veranstaltung-Volkacher-Weinfest-2.jpg
END:VEVENT
BEGIN:VEVENT
DTSTART;TZID=Europe/Berlin:20250817T110000
DTEND;TZID=Europe/Berlin:20250818T010000
DTSTAMP:20260419T184512
CREATED:20250729T105600Z
LAST-MODIFIED:20250729T105627Z
UID:25182-1755428400-1755478800@wob24.net
SUMMARY:Fränkisches Weinfest Volkach: Jubiläums-Festzug
DESCRIPTION:Fränkisches Weinfest Volkach vom 15. bis 19. August – Jubiläums-Festzug mit Musik\, Trachtengruppen und Kutschen \nDas 75. Fränkische Weinfest Volkach findet in diesem Jahr zwischen dem 15. und 19. August 2025 unter dem Motto „Kult\, Kultur & Weingenuss – damals wie heute“ statt. Die einmalige Festplatz-Kulisse unter Allee-Bäumen\, kulinarische Leckerbissen\, musikalische Höhepunkte und elf Festwinzer mit über 60 Schoppenweinen der Volkacher Mainschleife zeichnen das größte Weinfest Frankens aus. Aus Anlass des 75. Jubiläums findet am Sonntag ein großer Festzug statt. \nSonntag\, 17. August 2025\n10:00 – 11:00 Uhr Ökumenischer Gottesdienst \n11:00 – 13:00 Uhr Fränkischer Blasmusik-Frühschoppen mit der Musikkapelle Escherndorf \n14:00 – 17:30 Uhr Symphonisches Blasorchester Volkach \n15:00 Uhr Jubiläumsfestzug 75. Fränkisches Weinfest Volkach Weinadel\, Symbolfiguren\, Trachtengruppen\, Musikkapellen\, Pferdekutschen & Vereine ziehen gemeinsam durch die Altstadt zum Festgelände: Sommeracher Straße\, Oberer Markt\, Hauptstraße\, Josef-Wächter-Straße \n19:00 – 0:30 Uhr The Jets – Mix aus Rock\, Pop\, Funk & Soul \nDie Vielfalt des Weines\nDie elf teilnehmenden Weingüter und Genossenschaften bieten ein breites Wein-Portfolio für alle Geschmacksrichtungen an. Außerdem lädt wieder die Franken-Lounge mit erlesenen Bocksbeutelweinen\, Secco & Weincocktails zum Probieren und Verweilen ein. \nWährend des fünftägigen Weinfestes sind im überwiegenden Teil Weißweine im Ausschank – an erster Stelle die Rebsorte Silvaner. Der Rest verteilt sich auf Rotweine und Rotling. Hinter elf Weinständen verbergen sich sieben selbstvermarktende Weingüter und vier Winzergenossenschaften. \nTourismus-Chef und Festleiter Sebastian Karl freut sich sehr\, dass aufgrund der Unterstützung der Sponsoren wie auch der ausschenkenden Festbetriebe die Preise nicht erhöht werden mussten. „In Zeiten der immer weiter steigenden Kosten sind wir stolz darauf\, dass wir fast alle unsere Angebote auf dem Fränkischen Weinfest in Volkach auf dem Preisniveau des Vorjahres halten konnten.“ \nEin Highlight ist der große Jubiläumsfestzug: Weinadel\, Symbolfiguren\, Trachtengruppen\, Musikkapellen\, Pferdekutschen und Abordnungen der Vereine ziehen gemeinsam am Sonntag\, 17. August\, 15 Uhr\, durch die Altstadt zum Festgelände von der Sommeracher Straße über Oberer Markt\, Hauptstraße und Josef-Wächter-Straße. \nDer Weinfest-Veranstalter Stadt Volkach erwartet viele tausend Besucher – in den vergangenen Jahren kamen rund 50.000 bis 60.000 Besucher je nach Wetterlage. Durch den Zusatztag am Dienstag haben die Besucher eine größere Auswahl\, wann und wie oft sie das Fest besuchen. Die Ausschankzeiten der Weinstände: Freitag (Feiertag) 11 bis 1 Uhr\, Samstag 14 bis 1 Uhr\, Sonntag\, 11 bis 1 Uhr\, Montag 14 bis 0.30 Uhr und Dienstag\, 18 bis 0.15 Uhr. \nKulinarisches\n13 Cateringbetriebe bieten Spezialitäten vom Grill\, aus dem Backofen und aus der Pfanne wie z.B. Crêpes\, Käse\, Spätzle\, Pizza\, gebratene Nudeln\, Dinnete und vieles mehr. Selbstverständlich gibt es an den Essensständen auch Vegetarisches für den kleinen und großen Hunger. \nMusikalisches und Funkelndes\nEtwas auf die Ohren gibt es im Bereich Stimmungskapellen und -bands unter anderem von der Partyband „Die Partyräuber“ (Freitag)\, „Die Frankenbengel“ (Samstag)\, „The Jets“ (Sonntag) und zum Weinfest-Endspurt „Die Bayernmafia“ (Montag). Der neue Volkacher Lichterzauber zum Weinfest-Finale am Montag ist für 22:30 Uhr terminiert. Zur Weinfest-Zugabe am Dienstag bei freiem Eintritt gibt es einen Beatabend mit Lost in Tunes. \nAuch bei der Jubiläums-Ausgabe des Weinfestes gibt es die beliebten Weinfestfrühschoppen: Am Freitag (Feiertag) spielt die Fränkisch Swing Big Band auf\, am Sonntag sorgt die Musikkapelle Escherndorf für die musikalische Umrahmung des Blasmusik-Frühschoppens. Außerdem sind während des Weinfestes zu hören: „Die Fränkischen Freunde“ (Blasmusik pur\, Freitag)\, die Stadtkapelle Volkach (Samstag)\, das Symphonische Blasorchester Volkach (Sonntag) und das Jugendblasorchester der Musikschule Volkach (Montag). \nKein Fest ohne Fahrgeschäfte: Deswegen lädt der große Volksfestplatz direkt am Weinfestplatz gelegen zum Bummeln und Spaß haben ein. Das Volksfestunternehmen Uebel & Sachs aus Schweinfurt-Niederwerrn hat ein vielfältiges Angebot für die ganze Familie zusammengestellt. Der Montagnachmittag gehört der ganzen Familie mit vergünstigten Fahrpreisen bis 18 Uhr. Wer mit dem Trikot seines Heimatvereins kommt\, erhält eine kleine Überraschung. Außerdem im Programm:  die Kinder-Zauber-Show und die Abenteuer-Show „Piratenschatz“\, Kinderschminken\, Glitzertattoos und Glücksrad. Im Rummelplatzbereich ist der Eintritt stets frei! \nDas kostet der Spaß\nDas Fest ist eintrittspflichtig: Die Tageskarte kostet 3 Euro\, die Dauerkarte 7 Euro. Am Dienstag (Weinfest-Zugabe) ist der Eintritt frei. \nWer sein Auto stehen lassen möchte\, reist bequem per Bahn mit der Mainschleifenbahn oder mit den Freizeitlinien Mainschleifen-Express und Mainschleifenshuttle via Bus an. Bis in die Nacht hinein sind die Busse einschließlich Weinfestmontag on tour. Alle Info zum Fest: www.volkach.de und Tel. 09381/40112
URL:https://wob24.net/event/fraenkisches-weinfest-volkach-jubilaeums-festzug/
LOCATION:Volkach Festgelände\, Gaibacher Straße\, Volkach
CATEGORIES:Weinfest
ATTACH;FMTTYPE=image/jpeg:https://wob24.net/wp-content/uploads/2025/07/Veranstaltung-Volkacher-Weinfest-1.jpg
END:VEVENT
BEGIN:VEVENT
DTSTART;TZID=Europe/Berlin:20250818T140000
DTEND;TZID=Europe/Berlin:20250819T003000
DTSTAMP:20260419T184512
CREATED:20250729T110217Z
LAST-MODIFIED:20250729T110300Z
UID:25184-1755525600-1755563400@wob24.net
SUMMARY:Fränkisches Weinfest Volkach: Lichterzauber
DESCRIPTION:Fränkisches Weinfest Volkach vom 15. bis 19. August – Jubiläums-Festzug mit Musik\, Trachtengruppen und Kutschen \nDas 75. Fränkische Weinfest Volkach findet in diesem Jahr zwischen dem 15. und 19. August 2025 unter dem Motto „Kult\, Kultur & Weingenuss – damals wie heute“ statt. Die einmalige Festplatz-Kulisse unter Allee-Bäumen\, kulinarische Leckerbissen\, musikalische Höhepunkte und elf Festwinzer mit über 60 Schoppenweinen der Volkacher Mainschleife zeichnen das größte Weinfest Frankens aus. Aus Anlass des 75. Jubiläums findet am Sonntag ein großer Festzug statt. \nMontag\, 18. August 2025\n13:45 Uhr Kinderfestzug 2025\nDer Spielmannszug Wiesenbronn begleitet alle großen und kleinen Teilnehmer zum Festgelände. Treffpunkt Kinderfestzug (13:00 Uhr): Schulbusparkplatz (Jahnstraße) Die Kinder erhalten Gutscheine für den Vergnügungspark (solange Vorrat reicht!). \n14:00 – 18:00 Uhr Kinder- und Familiennachmittag Vergünstigte Fahrpreise an den Fahrgeschäften Zeigt Vereinstreue! Alle Kinder im Trikot ihres Heimatvereins erhalten eine kleine Überraschung. \n14:15 – 15:00 Uhr Kinder-Zaubershow & interaktive Abenteuer-Show „Piratenschatz“ \n15:00 – 17:30 Uhr Jugendblasorchester der Musikschule Volkach \n15:00 – 18:00 Uhr Kinderschminken mit dem Spaß & Spiel-Team (Unkostenbeitrag für 1x Schminken = 1 Euro) Glitzertattoos mit dem Familie Mainschleife e.V. Glücksrad der Raiffeisenbank Mainschleife – Steigerwald eG \n19:00 – 0:30 Uhr Weinfest-Endspurt mit der Stimmungsband Bayernmafia \n22:30 Uhr Volkacher Lichterzauber auf dem Weinfestplatz \nDie Vielfalt des Weines\nDie elf teilnehmenden Weingüter und Genossenschaften bieten ein breites Wein-Portfolio für alle Geschmacksrichtungen an. Außerdem lädt wieder die Franken-Lounge mit erlesenen Bocksbeutelweinen\, Secco & Weincocktails zum Probieren und Verweilen ein. \nWährend des fünftägigen Weinfestes sind im überwiegenden Teil Weißweine im Ausschank – an erster Stelle die Rebsorte Silvaner. Der Rest verteilt sich auf Rotweine und Rotling. Hinter elf Weinständen verbergen sich sieben selbstvermarktende Weingüter und vier Winzergenossenschaften. \nTourismus-Chef und Festleiter Sebastian Karl freut sich sehr\, dass aufgrund der Unterstützung der Sponsoren wie auch der ausschenkenden Festbetriebe die Preise nicht erhöht werden mussten. „In Zeiten der immer weiter steigenden Kosten sind wir stolz darauf\, dass wir fast alle unsere Angebote auf dem Fränkischen Weinfest in Volkach auf dem Preisniveau des Vorjahres halten konnten.“ \nEin Highlight ist der große Jubiläumsfestzug: Weinadel\, Symbolfiguren\, Trachtengruppen\, Musikkapellen\, Pferdekutschen und Abordnungen der Vereine ziehen gemeinsam am Sonntag\, 17. August\, 15 Uhr\, durch die Altstadt zum Festgelände von der Sommeracher Straße über Oberer Markt\, Hauptstraße und Josef-Wächter-Straße. \nDer Weinfest-Veranstalter Stadt Volkach erwartet viele tausend Besucher – in den vergangenen Jahren kamen rund 50.000 bis 60.000 Besucher je nach Wetterlage. Durch den Zusatztag am Dienstag haben die Besucher eine größere Auswahl\, wann und wie oft sie das Fest besuchen. Die Ausschankzeiten der Weinstände: Freitag (Feiertag) 11 bis 1 Uhr\, Samstag 14 bis 1 Uhr\, Sonntag\, 11 bis 1 Uhr\, Montag 14 bis 0.30 Uhr und Dienstag\, 18 bis 0.15 Uhr. \nKulinarisches\n13 Cateringbetriebe bieten Spezialitäten vom Grill\, aus dem Backofen und aus der Pfanne wie z.B. Crêpes\, Käse\, Spätzle\, Pizza\, gebratene Nudeln\, Dinnete und vieles mehr. Selbstverständlich gibt es an den Essensständen auch Vegetarisches für den kleinen und großen Hunger. \nMusikalisches und Funkelndes\nEtwas auf die Ohren gibt es im Bereich Stimmungskapellen und -bands unter anderem von der Partyband „Die Partyräuber“ (Freitag)\, „Die Frankenbengel“ (Samstag)\, „The Jets“ (Sonntag) und zum Weinfest-Endspurt „Die Bayernmafia“ (Montag). Der neue Volkacher Lichterzauber zum Weinfest-Finale am Montag ist für 22:30 Uhr terminiert. Zur Weinfest-Zugabe am Dienstag bei freiem Eintritt gibt es einen Beatabend mit Lost in Tunes. \nAuch bei der Jubiläums-Ausgabe des Weinfestes gibt es die beliebten Weinfestfrühschoppen: Am Freitag (Feiertag) spielt die Fränkisch Swing Big Band auf\, am Sonntag sorgt die Musikkapelle Escherndorf für die musikalische Umrahmung des Blasmusik-Frühschoppens. Außerdem sind während des Weinfestes zu hören: „Die Fränkischen Freunde“ (Blasmusik pur\, Freitag)\, die Stadtkapelle Volkach (Samstag)\, das Symphonische Blasorchester Volkach (Sonntag) und das Jugendblasorchester der Musikschule Volkach (Montag). \nKein Fest ohne Fahrgeschäfte: Deswegen lädt der große Volksfestplatz direkt am Weinfestplatz gelegen zum Bummeln und Spaß haben ein. Das Volksfestunternehmen Uebel & Sachs aus Schweinfurt-Niederwerrn hat ein vielfältiges Angebot für die ganze Familie zusammengestellt. Der Montagnachmittag gehört der ganzen Familie mit vergünstigten Fahrpreisen bis 18 Uhr. Wer mit dem Trikot seines Heimatvereins kommt\, erhält eine kleine Überraschung. Außerdem im Programm:  die Kinder-Zauber-Show und die Abenteuer-Show „Piratenschatz“\, Kinderschminken\, Glitzertattoos und Glücksrad. Im Rummelplatzbereich ist der Eintritt stets frei! \nDas kostet der Spaß\nDas Fest ist eintrittspflichtig: Die Tageskarte kostet 3 Euro\, die Dauerkarte 7 Euro. Am Dienstag (Weinfest-Zugabe) ist der Eintritt frei. \nWer sein Auto stehen lassen möchte\, reist bequem per Bahn mit der Mainschleifenbahn oder mit den Freizeitlinien Mainschleifen-Express und Mainschleifenshuttle via Bus an. Bis in die Nacht hinein sind die Busse einschließlich Weinfestmontag on tour. Alle Info zum Fest: www.volkach.de und Tel. 09381/40112
URL:https://wob24.net/event/fraenkisches-weinfest-volkach-lichterzauber/
LOCATION:Volkach Festgelände\, Gaibacher Straße\, Volkach
CATEGORIES:Weinfest
ATTACH;FMTTYPE=image/jpeg:https://wob24.net/wp-content/uploads/2025/07/Veranstaltung-Volkacher-Weinfest-2.jpg
END:VEVENT
BEGIN:VEVENT
DTSTART;TZID=Europe/Berlin:20250819T180000
DTEND;TZID=Europe/Berlin:20250820T001500
DTSTAMP:20260419T184512
CREATED:20250729T111824Z
LAST-MODIFIED:20250729T111833Z
UID:25186-1755626400-1755648900@wob24.net
SUMMARY:Fränkisches Weinfest Volkach: Gratis Zugabe am Dienstag
DESCRIPTION:Fränkisches Weinfest Volkach vom 15. bis 19. August – Jubiläums-Festzug mit Musik\, Trachtengruppen und Kutschen \nDas 75. Fränkische Weinfest Volkach findet in diesem Jahr zwischen dem 15. und 19. August 2025 unter dem Motto „Kult\, Kultur & Weingenuss – damals wie heute“ statt. Die einmalige Festplatz-Kulisse unter Allee-Bäumen\, kulinarische Leckerbissen\, musikalische Höhepunkte und elf Festwinzer mit über 60 Schoppenweinen der Volkacher Mainschleife zeichnen das größte Weinfest Frankens aus. Aus Anlass des 75. Jubiläums findet am Sonntag ein großer Festzug statt. \nDienstag\, 19. August 2025\n19:30 – 0:00 Uhr Beatabend mit Lost in Tunes \nAuch zur Weinfest-Zugabe 2025 haben wieder einige Wein- und Imbissstände geöffnet. Geschlossen sind u. a. die Franken-Lounge Wein- & Cocktailbar sowie der Schaustellerbereich (Fahr- und Spielgeschäfte). 19:30 – 0:00 Uhr Beatabend mit Lost in Tunes Eintritt frei! Festbetrieb ab 18:00 Uhr \nDie Vielfalt des Weines\nDie elf teilnehmenden Weingüter und Genossenschaften bieten ein breites Wein-Portfolio für alle Geschmacksrichtungen an. Außerdem lädt wieder die Franken-Lounge mit erlesenen Bocksbeutelweinen\, Secco & Weincocktails zum Probieren und Verweilen ein. \nWährend des fünftägigen Weinfestes sind im überwiegenden Teil Weißweine im Ausschank – an erster Stelle die Rebsorte Silvaner. Der Rest verteilt sich auf Rotweine und Rotling. Hinter elf Weinständen verbergen sich sieben selbstvermarktende Weingüter und vier Winzergenossenschaften. \nTourismus-Chef und Festleiter Sebastian Karl freut sich sehr\, dass aufgrund der Unterstützung der Sponsoren wie auch der ausschenkenden Festbetriebe die Preise nicht erhöht werden mussten. „In Zeiten der immer weiter steigenden Kosten sind wir stolz darauf\, dass wir fast alle unsere Angebote auf dem Fränkischen Weinfest in Volkach auf dem Preisniveau des Vorjahres halten konnten.“ \nEin Highlight ist der große Jubiläumsfestzug: Weinadel\, Symbolfiguren\, Trachtengruppen\, Musikkapellen\, Pferdekutschen und Abordnungen der Vereine ziehen gemeinsam am Sonntag\, 17. August\, 15 Uhr\, durch die Altstadt zum Festgelände von der Sommeracher Straße über Oberer Markt\, Hauptstraße und Josef-Wächter-Straße. \nDer Weinfest-Veranstalter Stadt Volkach erwartet viele tausend Besucher – in den vergangenen Jahren kamen rund 50.000 bis 60.000 Besucher je nach Wetterlage. Durch den Zusatztag am Dienstag haben die Besucher eine größere Auswahl\, wann und wie oft sie das Fest besuchen. Die Ausschankzeiten der Weinstände: Freitag (Feiertag) 11 bis 1 Uhr\, Samstag 14 bis 1 Uhr\, Sonntag\, 11 bis 1 Uhr\, Montag 14 bis 0.30 Uhr und Dienstag\, 18 bis 0.15 Uhr. \nKulinarisches\n13 Cateringbetriebe bieten Spezialitäten vom Grill\, aus dem Backofen und aus der Pfanne wie z.B. Crêpes\, Käse\, Spätzle\, Pizza\, gebratene Nudeln\, Dinnete und vieles mehr. Selbstverständlich gibt es an den Essensständen auch Vegetarisches für den kleinen und großen Hunger. \nMusikalisches und Funkelndes\nEtwas auf die Ohren gibt es im Bereich Stimmungskapellen und -bands unter anderem von der Partyband „Die Partyräuber“ (Freitag)\, „Die Frankenbengel“ (Samstag)\, „The Jets“ (Sonntag) und zum Weinfest-Endspurt „Die Bayernmafia“ (Montag). Der neue Volkacher Lichterzauber zum Weinfest-Finale am Montag ist für 22:30 Uhr terminiert. Zur Weinfest-Zugabe am Dienstag bei freiem Eintritt gibt es einen Beatabend mit Lost in Tunes. \nAuch bei der Jubiläums-Ausgabe des Weinfestes gibt es die beliebten Weinfestfrühschoppen: Am Freitag (Feiertag) spielt die Fränkisch Swing Big Band auf\, am Sonntag sorgt die Musikkapelle Escherndorf für die musikalische Umrahmung des Blasmusik-Frühschoppens. Außerdem sind während des Weinfestes zu hören: „Die Fränkischen Freunde“ (Blasmusik pur\, Freitag)\, die Stadtkapelle Volkach (Samstag)\, das Symphonische Blasorchester Volkach (Sonntag) und das Jugendblasorchester der Musikschule Volkach (Montag). \nKein Fest ohne Fahrgeschäfte: Deswegen lädt der große Volksfestplatz direkt am Weinfestplatz gelegen zum Bummeln und Spaß haben ein. Das Volksfestunternehmen Uebel & Sachs aus Schweinfurt-Niederwerrn hat ein vielfältiges Angebot für die ganze Familie zusammengestellt. Der Montagnachmittag gehört der ganzen Familie mit vergünstigten Fahrpreisen bis 18 Uhr. Wer mit dem Trikot seines Heimatvereins kommt\, erhält eine kleine Überraschung. Außerdem im Programm:  die Kinder-Zauber-Show und die Abenteuer-Show „Piratenschatz“\, Kinderschminken\, Glitzertattoos und Glücksrad. Im Rummelplatzbereich ist der Eintritt stets frei! \nDas kostet der Spaß\nDas Fest ist eintrittspflichtig: Die Tageskarte kostet 3 Euro\, die Dauerkarte 7 Euro. Am Dienstag (Weinfest-Zugabe) ist der Eintritt frei. \nWer sein Auto stehen lassen möchte\, reist bequem per Bahn mit der Mainschleifenbahn oder mit den Freizeitlinien Mainschleifen-Express und Mainschleifenshuttle via Bus an. Bis in die Nacht hinein sind die Busse einschließlich Weinfestmontag on tour. Alle Info zum Fest: www.volkach.de und Tel. 09381/40112
URL:https://wob24.net/event/fraenkisches-weinfest-volkach-gratis-zugabe-am-dienstag/
LOCATION:Volkach Festgelände\, Gaibacher Straße\, Volkach
CATEGORIES:Weinfest
ATTACH;FMTTYPE=image/jpeg:https://wob24.net/wp-content/uploads/2025/07/Veranstaltung-Volkacher-Weinfest-1.jpg
END:VEVENT
END:VCALENDAR