BEGIN:VCALENDAR
VERSION:2.0
PRODID:-//wob Würzburgs Wochenzeitung - ECPv6.15.18//NONSGML v1.0//EN
CALSCALE:GREGORIAN
METHOD:PUBLISH
X-ORIGINAL-URL:https://wob24.net
X-WR-CALDESC:Veranstaltungen für wob Würzburgs Wochenzeitung
REFRESH-INTERVAL;VALUE=DURATION:PT1H
X-Robots-Tag:noindex
X-PUBLISHED-TTL:PT1H
BEGIN:VTIMEZONE
TZID:Europe/Berlin
BEGIN:DAYLIGHT
TZOFFSETFROM:+0100
TZOFFSETTO:+0200
TZNAME:CEST
DTSTART:20240331T010000
END:DAYLIGHT
BEGIN:STANDARD
TZOFFSETFROM:+0200
TZOFFSETTO:+0100
TZNAME:CET
DTSTART:20241027T010000
END:STANDARD
BEGIN:DAYLIGHT
TZOFFSETFROM:+0100
TZOFFSETTO:+0200
TZNAME:CEST
DTSTART:20250330T010000
END:DAYLIGHT
BEGIN:STANDARD
TZOFFSETFROM:+0200
TZOFFSETTO:+0100
TZNAME:CET
DTSTART:20251026T010000
END:STANDARD
BEGIN:DAYLIGHT
TZOFFSETFROM:+0100
TZOFFSETTO:+0200
TZNAME:CEST
DTSTART:20260329T010000
END:DAYLIGHT
BEGIN:STANDARD
TZOFFSETFROM:+0200
TZOFFSETTO:+0100
TZNAME:CET
DTSTART:20261025T010000
END:STANDARD
END:VTIMEZONE
BEGIN:VEVENT
DTSTART;TZID=Europe/Berlin:20250727T110000
DTEND;TZID=Europe/Berlin:20250727T170000
DTSTAMP:20260422T131708
CREATED:20250724T142021Z
LAST-MODIFIED:20250724T143537Z
UID:25120-1753614000-1753635600@wob24.net
SUMMARY:Sommerfest im Tierheim
DESCRIPTION:Wer sich schon immer gefragt hat\, welcher Hund Würzburgs „Superhund“ ist\, sollte das Sommerfest des Würzburger Tierheims am Sonntag\, 27. Juli (11 bis 17 Uhr) am Elferweg nicht verpassen. Ab 14 Uhr wird ein für allemal geklärt\, welcher Wauzi diesen Titel in Anspruch nehmen kann… \nAußerdem im Programm: die Tiervorstellung (ab 15:30 Uhr)\, Livemusik\, ein Flohmarkt\, Kaffee und Kuchen\, Leckeres vom Grill\, Pizza (auch vegetarisch und vegan) und mehr! \nAußerdem werden einige Infostände vertreten sein – zum Beispiel die Greifvogel- und Eulenhilfe Würzburg\, Köllezoo\, die Würzburger Hundeschule\, Papke Bestattungen\, der Verein \nGreifvogelschutz Palmenhorst\, Maxims Hundezentrum\, und Crunchyleashes mit handgemachten Hundehalsbändern und Leinen. \nVom Busbahnhof fährt ein Shuttle zum Tierheim (10:30 Uhr\, ab 11 Uhr stündlich\, letzte Fahrt 16 Uhr) und auch wieder zurück. \nMehr Info: www.tierheim-wuerzburg.de
URL:https://wob24.net/event/sommerfest-im-tierheim-wuerzburg/
LOCATION:Tierheim Würzburg\, Elferweg 30\, Würzburg
CATEGORIES:Sommerfest
ATTACH;FMTTYPE=image/jpeg:https://wob24.net/wp-content/uploads/2025/07/Veranstaltung-Sommerfest-Tierheim-e1753366797180.jpg
END:VEVENT
END:VCALENDAR