BEGIN:VCALENDAR
VERSION:2.0
PRODID:-//wob Würzburgs Wochenzeitung - ECPv6.15.18//NONSGML v1.0//EN
CALSCALE:GREGORIAN
METHOD:PUBLISH
X-ORIGINAL-URL:https://wob24.net
X-WR-CALDESC:Veranstaltungen für wob Würzburgs Wochenzeitung
REFRESH-INTERVAL;VALUE=DURATION:PT1H
X-Robots-Tag:noindex
X-PUBLISHED-TTL:PT1H
BEGIN:VTIMEZONE
TZID:Europe/Berlin
BEGIN:DAYLIGHT
TZOFFSETFROM:+0100
TZOFFSETTO:+0200
TZNAME:CEST
DTSTART:20240331T010000
END:DAYLIGHT
BEGIN:STANDARD
TZOFFSETFROM:+0200
TZOFFSETTO:+0100
TZNAME:CET
DTSTART:20241027T010000
END:STANDARD
BEGIN:DAYLIGHT
TZOFFSETFROM:+0100
TZOFFSETTO:+0200
TZNAME:CEST
DTSTART:20250330T010000
END:DAYLIGHT
BEGIN:STANDARD
TZOFFSETFROM:+0200
TZOFFSETTO:+0100
TZNAME:CET
DTSTART:20251026T010000
END:STANDARD
BEGIN:DAYLIGHT
TZOFFSETFROM:+0100
TZOFFSETTO:+0200
TZNAME:CEST
DTSTART:20260329T010000
END:DAYLIGHT
BEGIN:STANDARD
TZOFFSETFROM:+0200
TZOFFSETTO:+0100
TZNAME:CET
DTSTART:20261025T010000
END:STANDARD
END:VTIMEZONE
BEGIN:VEVENT
DTSTART;TZID=Europe/Berlin:20250912T150000
DTEND;TZID=Europe/Berlin:20250912T220000
DTSTAMP:20260420T140236
CREATED:20250903T092639Z
LAST-MODIFIED:20250903T092648Z
UID:25495-1757689200-1757714400@wob24.net
SUMMARY:StraMu 2025: Die ganze City ist eine Bühne
DESCRIPTION:Das ist der perfekte Abschluss der Sommerferien: Von Freitag\, 12. September bis Sonntag\, 14. September findet in Würzburg das 22. StraMu statt\, eines der größten Straßenmusikfestivals Europas. Musiker\, Artisten\, Clowns und Tänzer aus zahlreichen Ländern verwandeln bei über 150 Auftritten die Fußgängerzone in eine riesengroße und farbenfrohe Showbühne. \nDie Veranstalter versprechen ein Programm\, das in seiner Vielfalt für alle Besucher etwas zu bieten hat: Wer es gern etwas „zuhöriger“ mag\, ist in der Behr-Halle im Rathaus oder in den wunderschönen Innenhöfen der Erlöserschwestern richtig. Am Kiliansplatz treten zwei Artistengruppen auf\, und am Unteren Markt (wie an einigen weiteren Plätzen) sorgen Künstler für Tanzstimmung. Kinder freuen sich auf die Artistikgruppen und Clowns. \nErmöglicht wird das StraMu durch die Unterstützung der Stadt Würzburg als Veranstalter und des Hauptsponsors\, der Nürnberger Sparda-Bank. Christoph Arend\, Vertriebsleiter der Sparda-Bank in Würzburg\, erklärt die Hintergründe des Engagements: „Als Hauptförderer stellen wir gerne wieder den kostenlosen Besuch sicher\, damit jede und jeder die einzigartige Atmosphäre der Straßenmusik genießen kann. Uns ist wichtig\, dass gerade Kultur- und Musikveranstaltungen\, die die Gesellschaft zusammenbringen\, für alle Personen erreichbar sind.“ \n„Zasterklang-Award“ im Rathaushof\nNeu ist dieses Jahr der Besuch des StraMu im Lusamgärtchen am Sonntag. Dort findet eine Lesung des Autorenkreises statt. Im Anschluss spielt das Theaterkollektiv „Auftreten“. \nDer Rathaushof ist wieder ein zentraler Spielort. Auf einer leicht erhöhten Spielfläche – für bessere Sicht – treten hier vor allem Bands und Solisten auf und laden dazu ein\, ein bisschen Open-Air-Festival-Atmosphäre zu schnuppern. \nAm Sonntag abend wird hier der „Zasterklang-Award“ verliehen in drei Kategorien: „Bester musikalischer Act“\, „Bester nicht-musikalischer Act“ und „Bester neuer lokaler StraMu-Act“. Die Nominierten zeigen bei Kurzauftritten\, was sie können\, dann bestimmt das Publikum den Sieger. Das Preisgeld von insgesamt 1.500 Euro wird von der Sparda-Bank zur Verfügung gestellt. \nDas Programm in der App\nProgrammänderungen und Programmergänzungen sind beim StraMu immer möglich – ein Blick auf die Webseite www.stramu-wuerzburg.de\, die SocialMedia Kanäle oder die Nutzung der Festivalapp zeigen immer den aktuellen Stand. Die Apps sind für Android und iOS in den jeweiligen Stores kostenlos erhältlich. \nStraMu-Shirts und Festivalbändchen\nWer das StraMu unterstützen und ein kleines Andenken mitnehmen möchte\, darf an der Infobude vorbeischauen: Dort gibt es Festivalbändchen\, StraMu-Taschen und StraMu-Shirts. Alles\, was dort verkauft wird\, kommt – wie auch der Erlös der Getränke – direkt dem StraMu-Förderverein zur Finanzierung des Festivals zu Gute. \nAn der Infobude gibt es auch kostenlose „Kinderfind-Bändchen“. Eltern schreiben ihre Handynummer auf das Bändchen\, binden es den Kindern um das Handgelenk und können so schnell informiert werden\, falls das Kind die Eltern vermisst. \nHutgeld und „StraMu-Taler“\nDas StraMu kommt für Transport\, Logis und Essen der Künstler auf\, kann jedoch keine Gagen bezahlen. Beim StraMu lassen die Künstler daher nach den Aufritten den Hut herumgehen. Seien Sie also großzügig\, wenn Sie es sich leisten können. Denn: Hier landet das Geld genau da\, wo es hingehört – bei den Künstlern und nirgendwo sonst.  Neben der großartigen Atmosphäre\, die jedes Jahr während des StraMu herrscht\, sind Begeisterungsfähigkeit und Großzügigkeit des Würzburger Publikums ein wichtiger Grund\, warum die Künstler gerne immer wieder kommen. \nUnd wenn das Kleingeld ausgeht ? Besucher können an der Infobude per EC-Karte einen beliebigen Geldbetrag zahlen und bekommen dafür „StraMu-Taler“\, die sie den Künstlern in den Hut oder Gitarrenkoffer werfen können. Die wiederum tauschen die Taler im Festivalbüro in Euro ein. Überzählige Taler können an der Infobude während der Festivalöffnungszeiten wiederzurückgetauscht werden. \nÜbrigens: Die StraMu-Mitarbeiter und Mitarbeiterinnen sind leicht an den „Team“-Shirts in knallgelb erkennbar. Sie sind die ersten Ansprechpartner bei allen Fragen. \nFestivalzeiten\n– Freitag\, 12. September\, 15 – 22 Uhr* \n– Samstag\, 13. September\, 12 – 22 Uhr* \n*an einzelnen Orten (Ehrenhof\, Oberer und Unterer Markt\, Kiliansplatz) bis 22.30 Uhr \n– Sonntag\, 14. September\, 12 – 22 Uhr \n– Sonntag 20 – 21.30 Uhr Vergabe des Förderpreises Zasterklang im Rathaushof (bei Regen in der Behr-Halle) \n– Freiufer: Samstag und Sonntag 12 – 22 Uhr \nFoto Volker Danzer
URL:https://wob24.net/event/stramu-2025-die-ganze-city-ist-eine-buehne/
LOCATION:Würzburg Innenstadt\, Würzburg
CATEGORIES:Festival
ATTACH;FMTTYPE=image/jpeg:https://wob24.net/wp-content/uploads/2025/09/Titel-Stramu-7.jpg
END:VEVENT
BEGIN:VEVENT
DTSTART;TZID=Europe/Berlin:20250913T120000
DTEND;TZID=Europe/Berlin:20250913T220000
DTSTAMP:20260420T140236
CREATED:20250903T093410Z
LAST-MODIFIED:20250903T093419Z
UID:25500-1757764800-1757800800@wob24.net
SUMMARY:StraMu 2025 in Würzburg: Die ganze City ist eine Bühne
DESCRIPTION:Das ist der perfekte Abschluss der Sommerferien: Von Freitag\, 12. September bis Sonntag\, 14. September findet in Würzburg das 22. StraMu statt\, eines der größten Straßenmusikfestivals Europas. Musiker\, Artisten\, Clowns und Tänzer aus zahlreichen Ländern verwandeln bei über 150 Auftritten die Fußgängerzone in eine riesengroße und farbenfrohe Showbühne. \nDie Veranstalter versprechen ein Programm\, das in seiner Vielfalt für alle Besucher etwas zu bieten hat: Wer es gern etwas „zuhöriger“ mag\, ist in der Behr-Halle im Rathaus oder in den wunderschönen Innenhöfen der Erlöserschwestern richtig. Am Kiliansplatz treten zwei Artistengruppen auf\, und am Unteren Markt (wie an einigen weiteren Plätzen) sorgen Künstler für Tanzstimmung. Kinder freuen sich auf die Artistikgruppen und Clowns. \nErmöglicht wird das StraMu durch die Unterstützung der Stadt Würzburg als Veranstalter und des Hauptsponsors\, der Nürnberger Sparda-Bank. Christoph Arend\, Vertriebsleiter der Sparda-Bank in Würzburg\, erklärt die Hintergründe des Engagements: „Als Hauptförderer stellen wir gerne wieder den kostenlosen Besuch sicher\, damit jede und jeder die einzigartige Atmosphäre der Straßenmusik genießen kann. Uns ist wichtig\, dass gerade Kultur- und Musikveranstaltungen\, die die Gesellschaft zusammenbringen\, für alle Personen erreichbar sind.“ \n„Zasterklang-Award“ im Rathaushof\nNeu ist dieses Jahr der Besuch des StraMu im Lusamgärtchen am Sonntag. Dort findet eine Lesung des Autorenkreises statt. Im Anschluss spielt das Theaterkollektiv „Auftreten“. \nDer Rathaushof ist wieder ein zentraler Spielort. Auf einer leicht erhöhten Spielfläche – für bessere Sicht – treten hier vor allem Bands und Solisten auf und laden dazu ein\, ein bisschen Open-Air-Festival-Atmosphäre zu schnuppern. \nAm Sonntag abend wird hier der „Zasterklang-Award“ verliehen in drei Kategorien: „Bester musikalischer Act“\, „Bester nicht-musikalischer Act“ und „Bester neuer lokaler StraMu-Act“. Die Nominierten zeigen bei Kurzauftritten\, was sie können\, dann bestimmt das Publikum den Sieger. Das Preisgeld von insgesamt 1.500 Euro wird von der Sparda-Bank zur Verfügung gestellt. \nDas Programm in der App\nProgrammänderungen und Programmergänzungen sind beim StraMu immer möglich – ein Blick auf die Webseite www.stramu-wuerzburg.de\, die SocialMedia Kanäle oder die Nutzung der Festivalapp zeigen immer den aktuellen Stand. Die Apps sind für Android und iOS in den jeweiligen Stores kostenlos erhältlich. \nStraMu-Shirts und Festivalbändchen\nWer das StraMu unterstützen und ein kleines Andenken mitnehmen möchte\, darf an der Infobude vorbeischauen: Dort gibt es Festivalbändchen\, StraMu-Taschen und StraMu-Shirts. Alles\, was dort verkauft wird\, kommt – wie auch der Erlös der Getränke – direkt dem StraMu-Förderverein zur Finanzierung des Festivals zu Gute. \nAn der Infobude gibt es auch kostenlose „Kinderfind-Bändchen“. Eltern schreiben ihre Handynummer auf das Bändchen\, binden es den Kindern um das Handgelenk und können so schnell informiert werden\, falls das Kind die Eltern vermisst. \nHutgeld und „StraMu-Taler“\nDas StraMu kommt für Transport\, Logis und Essen der Künstler auf\, kann jedoch keine Gagen bezahlen. Beim StraMu lassen die Künstler daher nach den Aufritten den Hut herumgehen. Seien Sie also großzügig\, wenn Sie es sich leisten können. Denn: Hier landet das Geld genau da\, wo es hingehört – bei den Künstlern und nirgendwo sonst.  Neben der großartigen Atmosphäre\, die jedes Jahr während des StraMu herrscht\, sind Begeisterungsfähigkeit und Großzügigkeit des Würzburger Publikums ein wichtiger Grund\, warum die Künstler gerne immer wieder kommen. \nUnd wenn das Kleingeld ausgeht ? Besucher können an der Infobude per EC-Karte einen beliebigen Geldbetrag zahlen und bekommen dafür „StraMu-Taler“\, die sie den Künstlern in den Hut oder Gitarrenkoffer werfen können. Die wiederum tauschen die Taler im Festivalbüro in Euro ein. Überzählige Taler können an der Infobude während der Festivalöffnungszeiten wiederzurückgetauscht werden. \nÜbrigens: Die StraMu-Mitarbeiter und Mitarbeiterinnen sind leicht an den „Team“-Shirts in knallgelb erkennbar. Sie sind die ersten Ansprechpartner bei allen Fragen. \nFestivalzeiten\n– Freitag\, 12. September\, 15 – 22 Uhr* \n– Samstag\, 13. September\, 12 – 22 Uhr* \n*an einzelnen Orten (Ehrenhof\, Oberer und Unterer Markt\, Kiliansplatz) bis 22.30 Uhr \n– Sonntag\, 14. September\, 12 – 22 Uhr \n– Sonntag 20 – 21.30 Uhr Vergabe des Förderpreises Zasterklang im Rathaushof (bei Regen in der Behr-Halle) \n– Freiufer: Samstag und Sonntag 12 – 22 Uhr \nFoto Volker Danzer
URL:https://wob24.net/event/stramu-2025-in-wuerzburg-die-ganze-city-ist-eine-buehne/
LOCATION:Würzburg Innenstadt\, Würzburg
CATEGORIES:Festival
ATTACH;FMTTYPE=image/jpeg:https://wob24.net/wp-content/uploads/2025/09/Titel-Stramu-6.jpg
END:VEVENT
BEGIN:VEVENT
DTSTART;TZID=Europe/Berlin:20250914T120000
DTEND;TZID=Europe/Berlin:20250914T220000
DTSTAMP:20260420T140236
CREATED:20250903T093848Z
LAST-MODIFIED:20250903T093858Z
UID:25502-1757851200-1757887200@wob24.net
SUMMARY:StraMu 2025 in Würzburg
DESCRIPTION:Das ist der perfekte Abschluss der Sommerferien: Von Freitag\, 12. September bis Sonntag\, 14. September findet in Würzburg das 22. StraMu statt\, eines der größten Straßenmusikfestivals Europas. Musiker\, Artisten\, Clowns und Tänzer aus zahlreichen Ländern verwandeln bei über 150 Auftritten die Fußgängerzone in eine riesengroße und farbenfrohe Showbühne. \nDie Veranstalter versprechen ein Programm\, das in seiner Vielfalt für alle Besucher etwas zu bieten hat: Wer es gern etwas „zuhöriger“ mag\, ist in der Behr-Halle im Rathaus oder in den wunderschönen Innenhöfen der Erlöserschwestern richtig. Am Kiliansplatz treten zwei Artistengruppen auf\, und am Unteren Markt (wie an einigen weiteren Plätzen) sorgen Künstler für Tanzstimmung. Kinder freuen sich auf die Artistikgruppen und Clowns. \nErmöglicht wird das StraMu durch die Unterstützung der Stadt Würzburg als Veranstalter und des Hauptsponsors\, der Nürnberger Sparda-Bank. Christoph Arend\, Vertriebsleiter der Sparda-Bank in Würzburg\, erklärt die Hintergründe des Engagements: „Als Hauptförderer stellen wir gerne wieder den kostenlosen Besuch sicher\, damit jede und jeder die einzigartige Atmosphäre der Straßenmusik genießen kann. Uns ist wichtig\, dass gerade Kultur- und Musikveranstaltungen\, die die Gesellschaft zusammenbringen\, für alle Personen erreichbar sind.“ \n„Zasterklang-Award“ im Rathaushof\nNeu ist dieses Jahr der Besuch des StraMu im Lusamgärtchen am Sonntag. Dort findet eine Lesung des Autorenkreises statt. Im Anschluss spielt das Theaterkollektiv „Auftreten“. \nDer Rathaushof ist wieder ein zentraler Spielort. Auf einer leicht erhöhten Spielfläche – für bessere Sicht – treten hier vor allem Bands und Solisten auf und laden dazu ein\, ein bisschen Open-Air-Festival-Atmosphäre zu schnuppern. \nAm Sonntag abend wird hier der „Zasterklang-Award“ verliehen in drei Kategorien: „Bester musikalischer Act“\, „Bester nicht-musikalischer Act“ und „Bester neuer lokaler StraMu-Act“. Die Nominierten zeigen bei Kurzauftritten\, was sie können\, dann bestimmt das Publikum den Sieger. Das Preisgeld von insgesamt 1.500 Euro wird von der Sparda-Bank zur Verfügung gestellt. \nDas Programm in der App\nProgrammänderungen und Programmergänzungen sind beim StraMu immer möglich – ein Blick auf die Webseite www.stramu-wuerzburg.de\, die SocialMedia Kanäle oder die Nutzung der Festivalapp zeigen immer den aktuellen Stand. Die Apps sind für Android und iOS in den jeweiligen Stores kostenlos erhältlich. \nStraMu-Shirts und Festivalbändchen\nWer das StraMu unterstützen und ein kleines Andenken mitnehmen möchte\, darf an der Infobude vorbeischauen: Dort gibt es Festivalbändchen\, StraMu-Taschen und StraMu-Shirts. Alles\, was dort verkauft wird\, kommt – wie auch der Erlös der Getränke – direkt dem StraMu-Förderverein zur Finanzierung des Festivals zu Gute. \nAn der Infobude gibt es auch kostenlose „Kinderfind-Bändchen“. Eltern schreiben ihre Handynummer auf das Bändchen\, binden es den Kindern um das Handgelenk und können so schnell informiert werden\, falls das Kind die Eltern vermisst. \nHutgeld und „StraMu-Taler“\nDas StraMu kommt für Transport\, Logis und Essen der Künstler auf\, kann jedoch keine Gagen bezahlen. Beim StraMu lassen die Künstler daher nach den Aufritten den Hut herumgehen. Seien Sie also großzügig\, wenn Sie es sich leisten können. Denn: Hier landet das Geld genau da\, wo es hingehört – bei den Künstlern und nirgendwo sonst.  Neben der großartigen Atmosphäre\, die jedes Jahr während des StraMu herrscht\, sind Begeisterungsfähigkeit und Großzügigkeit des Würzburger Publikums ein wichtiger Grund\, warum die Künstler gerne immer wieder kommen. \nUnd wenn das Kleingeld ausgeht ? Besucher können an der Infobude per EC-Karte einen beliebigen Geldbetrag zahlen und bekommen dafür „StraMu-Taler“\, die sie den Künstlern in den Hut oder Gitarrenkoffer werfen können. Die wiederum tauschen die Taler im Festivalbüro in Euro ein. Überzählige Taler können an der Infobude während der Festivalöffnungszeiten wiederzurückgetauscht werden. \nÜbrigens: Die StraMu-Mitarbeiter und Mitarbeiterinnen sind leicht an den „Team“-Shirts in knallgelb erkennbar. Sie sind die ersten Ansprechpartner bei allen Fragen. \nFestivalzeiten\n– Freitag\, 12. September\, 15 – 22 Uhr* \n– Samstag\, 13. September\, 12 – 22 Uhr* \n*an einzelnen Orten (Ehrenhof\, Oberer und Unterer Markt\, Kiliansplatz) bis 22.30 Uhr \n– Sonntag\, 14. September\, 12 – 22 Uhr \n– Sonntag 20 – 21.30 Uhr Vergabe des Förderpreises Zasterklang im Rathaushof (bei Regen in der Behr-Halle) \n– Freiufer: Samstag und Sonntag 12 – 22 Uhr \nFoto Volker Danzer
URL:https://wob24.net/event/stramu-2025-in-wuerzburg/
LOCATION:Würzburg Innenstadt\, Würzburg
CATEGORIES:Festival
ATTACH;FMTTYPE=image/jpeg:https://wob24.net/wp-content/uploads/2025/09/Titel-Stramu-9.jpg
END:VEVENT
END:VCALENDAR