BEGIN:VCALENDAR
VERSION:2.0
PRODID:-//wob Würzburgs Wochenzeitung - ECPv6.15.18//NONSGML v1.0//EN
CALSCALE:GREGORIAN
METHOD:PUBLISH
X-ORIGINAL-URL:https://wob24.net
X-WR-CALDESC:Veranstaltungen für wob Würzburgs Wochenzeitung
REFRESH-INTERVAL;VALUE=DURATION:PT1H
X-Robots-Tag:noindex
X-PUBLISHED-TTL:PT1H
BEGIN:VTIMEZONE
TZID:Europe/Berlin
BEGIN:DAYLIGHT
TZOFFSETFROM:+0100
TZOFFSETTO:+0200
TZNAME:CEST
DTSTART:20240331T010000
END:DAYLIGHT
BEGIN:STANDARD
TZOFFSETFROM:+0200
TZOFFSETTO:+0100
TZNAME:CET
DTSTART:20241027T010000
END:STANDARD
BEGIN:DAYLIGHT
TZOFFSETFROM:+0100
TZOFFSETTO:+0200
TZNAME:CEST
DTSTART:20250330T010000
END:DAYLIGHT
BEGIN:STANDARD
TZOFFSETFROM:+0200
TZOFFSETTO:+0100
TZNAME:CET
DTSTART:20251026T010000
END:STANDARD
BEGIN:DAYLIGHT
TZOFFSETFROM:+0100
TZOFFSETTO:+0200
TZNAME:CEST
DTSTART:20260329T010000
END:DAYLIGHT
BEGIN:STANDARD
TZOFFSETFROM:+0200
TZOFFSETTO:+0100
TZNAME:CET
DTSTART:20261025T010000
END:STANDARD
END:VTIMEZONE
BEGIN:VEVENT
DTSTART;TZID=Europe/Berlin:20251026T170000
DTEND;TZID=Europe/Berlin:20251026T170000
DTSTAMP:20260423T000812
CREATED:20251021T090129Z
LAST-MODIFIED:20251021T090140Z
UID:25916-1761498000-1761498000@wob24.net
SUMMARY:Benefizkonzert 25 Jahre M.W.A.N.Z.A. e.V.
DESCRIPTION:Am 26. Oktober in der Kirche St. Stephan: Zwei bekannte Chöre singen für Würzburgs Partnerstadt Mwanza in Tansania \nIm November 2009 besuchte der bekannte Gospel-Rock Pop Chor Voices die Partnerstadt Mwanza in Tansania und gab dort mehrere Konzerte. Die Zusammenarbeit und Begeisterung haben über die Jahre nicht nachgelassen: Für ein Konzert zugunsten M.W.A.N.Z.A.  e.V. am 26. Oktober in St. Stephan wird Voices zusammen mit dem Chor Ton-in-Ton auftreten. \nDas beliebte Hanauer Ensemble begeistert wie Voices mit fetzigen Gospels\, bekannten Charthits und berührenden Balladen. Die Sänger der beiden sehr erfahrenen Ensembles werden das Publikum mit tollen Arrangements und begeisterndem Groove unterhalten. Bei ihrem Gesang entsteht eine inspirierende Kraft\, die in Ohren und Herzen der Zuhörenden fließt und bewegt. Zu einem zündenden Finale werden sich schließlich 100 Sängerinnen und Sänger auf der Bühne präsentieren\, Gänsehautfeeling versprochen. \nDie Einnahmen des Konzertes mit Voices und Ton-in-Ton kommen gänzlich den sozialen Werken von M.W.A.N.Z.A. e.V. zugute. Dazu gehören insbesondere Mädchenförderung in Mwanza\, Unterstützung einer Schule für behinderte Jugendliche\, Medizinische Notfall-Versorgung und berufsfördernde Kurse. Weitere Info: www.mwanza.de. \nDas Benefizkonzert findet am Sonntag\, 26. Oktober um 17:00 Uhr in der Kirche St. Stephan\, Wilhelm-Schwinn-Platz 1 statt\, Einlass ab 16:30 Uhr. Karten von 10 bis 18 Euro sind im Vorverkauf bei www.okticket.de oder im Weltladen in der Plattnerstraße 14 erhältlich. Mehr: www.voices-wuerzburg.de \nFoto Gospel-Rock-Pop-Chor Ton-in-Ton aus Hanau: Kai Pfaffenbach
URL:https://wob24.net/event/benefizkonzert-25-jahre-m-w-a-n-z-a-e-v/
LOCATION:St. Stephan\, Wilhelm-Schwinn-Platz 1\, Würzburg
CATEGORIES:Konzert
ATTACH;FMTTYPE=image/jpeg:https://wob24.net/wp-content/uploads/2025/10/PR-Mwanza-Konzert-Ton-in-Ton.jpg
END:VEVENT
END:VCALENDAR