BEGIN:VCALENDAR
VERSION:2.0
PRODID:-//wob Würzburgs Wochenzeitung - ECPv6.15.18//NONSGML v1.0//EN
CALSCALE:GREGORIAN
METHOD:PUBLISH
X-ORIGINAL-URL:https://wob24.net
X-WR-CALDESC:Veranstaltungen für wob Würzburgs Wochenzeitung
REFRESH-INTERVAL;VALUE=DURATION:PT1H
X-Robots-Tag:noindex
X-PUBLISHED-TTL:PT1H
BEGIN:VTIMEZONE
TZID:Europe/Berlin
BEGIN:DAYLIGHT
TZOFFSETFROM:+0100
TZOFFSETTO:+0200
TZNAME:CEST
DTSTART:20240331T010000
END:DAYLIGHT
BEGIN:STANDARD
TZOFFSETFROM:+0200
TZOFFSETTO:+0100
TZNAME:CET
DTSTART:20241027T010000
END:STANDARD
BEGIN:DAYLIGHT
TZOFFSETFROM:+0100
TZOFFSETTO:+0200
TZNAME:CEST
DTSTART:20250330T010000
END:DAYLIGHT
BEGIN:STANDARD
TZOFFSETFROM:+0200
TZOFFSETTO:+0100
TZNAME:CET
DTSTART:20251026T010000
END:STANDARD
BEGIN:DAYLIGHT
TZOFFSETFROM:+0100
TZOFFSETTO:+0200
TZNAME:CEST
DTSTART:20260329T010000
END:DAYLIGHT
BEGIN:STANDARD
TZOFFSETFROM:+0200
TZOFFSETTO:+0100
TZNAME:CET
DTSTART:20261025T010000
END:STANDARD
END:VTIMEZONE
BEGIN:VEVENT
DTSTART;TZID=Europe/Berlin:20251116T170000
DTEND;TZID=Europe/Berlin:20251116T170000
DTSTAMP:20260421T081416
CREATED:20251112T120332Z
LAST-MODIFIED:20251112T120537Z
UID:26121-1763312400-1763312400@wob24.net
SUMMARY:Martinszug durch Würzburg
DESCRIPTION:Ich geh mit meiner Laterne: Deutsche Pfadfinderschaft Sankt Georg lädt zum Martinszug durch Würzburg ein \nDie Pfadfinderinnen und Pfadfinder des Bezirks Sankt Kilian der Deutschen Pfadfinderschaft Sankt Georg laden am Sonntag\, 16. November\, um 17 Uhr zu einem Martinszug durch die Würzburger Innenstadt ein. Treffpunkt ist am Frankoniabrunnen auf dem Residenzplatz. Der Martinszug führt durch die Innenstadt bis zum Kiliansplatz. \nAuf dem Kiliansplatz wird die Martinslegende aufgeführt. Außerdem gibt es dort Kinderpunsch\, Glühwein und Lebkuchen auf Spendenbasis. Der Erlös geht an den Verein Klinikclowns Lachtränen Würzburg. Aus Umweltschutzgründen wird gebeten\, einen eigenen Becher für Kinderpunsch und Glühwein mitzubringen. Vor Ort kann ein Becher gegen ein Pfand von zwei Euro ausgeliehen werden. (POW) \nFoto Markus Hauck (POW)
URL:https://wob24.net/event/martinszug-durch-wuerzburg/
LOCATION:Residenzplatz\, Würzburg
CATEGORIES:Live-Event
ATTACH;FMTTYPE=image/jpeg:https://wob24.net/wp-content/uploads/2025/11/Veranstaltung-Sankt-Martin.jpg
END:VEVENT
END:VCALENDAR