BEGIN:VCALENDAR
VERSION:2.0
PRODID:-//wob Würzburgs Wochenzeitung - ECPv6.15.18//NONSGML v1.0//EN
CALSCALE:GREGORIAN
METHOD:PUBLISH
X-WR-CALNAME:wob Würzburgs Wochenzeitung
X-ORIGINAL-URL:https://wob24.net
X-WR-CALDESC:Veranstaltungen für wob Würzburgs Wochenzeitung
REFRESH-INTERVAL;VALUE=DURATION:PT1H
X-Robots-Tag:noindex
X-PUBLISHED-TTL:PT1H
BEGIN:VTIMEZONE
TZID:Europe/Berlin
BEGIN:DAYLIGHT
TZOFFSETFROM:+0100
TZOFFSETTO:+0200
TZNAME:CEST
DTSTART:20240331T010000
END:DAYLIGHT
BEGIN:STANDARD
TZOFFSETFROM:+0200
TZOFFSETTO:+0100
TZNAME:CET
DTSTART:20241027T010000
END:STANDARD
BEGIN:DAYLIGHT
TZOFFSETFROM:+0100
TZOFFSETTO:+0200
TZNAME:CEST
DTSTART:20250330T010000
END:DAYLIGHT
BEGIN:STANDARD
TZOFFSETFROM:+0200
TZOFFSETTO:+0100
TZNAME:CET
DTSTART:20251026T010000
END:STANDARD
BEGIN:DAYLIGHT
TZOFFSETFROM:+0100
TZOFFSETTO:+0200
TZNAME:CEST
DTSTART:20260329T010000
END:DAYLIGHT
BEGIN:STANDARD
TZOFFSETFROM:+0200
TZOFFSETTO:+0100
TZNAME:CET
DTSTART:20261025T010000
END:STANDARD
END:VTIMEZONE
BEGIN:VEVENT
DTSTART;TZID=Europe/Berlin:20250501T120000
DTEND;TZID=Europe/Berlin:20250501T120000
DTSTAMP:20260420T132531
CREATED:20250428T133142Z
LAST-MODIFIED:20250428T133148Z
UID:24304-1746100800-1746100800@wob24.net
SUMMARY:1. Mai: Lengfeld tanzt in den Frühling
DESCRIPTION:Aus Lengfeld ist es nicht mehr wegzudenken: das Maibaumfest für Jung und Alt\, ausgerichtet von der Werbegemeinschaft „Lengfeld hat Herz und Schwung“. \nAm 1. Mai um 12 Uhr startet der Festbetrieb vor der Kürnachtalhalle. Rainer Schömig und sein Team vom Gasthaus „Zum Hirschen“ bewirten die Festbesucher mit allerhand leckeren und deftigen Gaumenfreuden\, vegetarische Angebote als Alternative zum Fleisch vom Grill wurden dabei nicht vergessen. \nZudem sorgt sich Familie Schömig auch um den Durst der Gäste mit Bier vom Fass\, Wein\, Schorle und selbstverständlich auch mit Getränken „ohne Prozente“. \nLengfeld tanzt in den Frühling\nDie traditionelle Veranstaltung steht wie immer unter dem Motto: „Lengfeld tanzt in den Frühling“. Um 14 Uhr beginnt das Fest offiziell mit dem Tanz um den Maibaum. Die Kinder vom Kinderhaus Sonnenblume auf der Schanz und am Sonnfeld haben fleißig geübt – ein herzliches Dankeschön gilt an dieser Stelle neben den Kindern auch den engagierten Betreuungskräften des Kindergartens! \nBegrüßt werden die Tanzgruppe und alle anderen Besucher von Johannes Muth\, dem 1. Vorsitzenden der Werbegemeinschaft\, von Burkard Pfrenzinger\, dem Ehrenvorsitzenden\, und von Bürgermeisterin Judith Roth-Jörg; alle drei freuen sich schon auf das Programm und sind sicher danach zu dem einen oder anderen Gespräch bereit. \nLengfelder Bier extra fürs Maibaumfest\nSchon im letzten Jahr war es ein echter Renner: das Lengfelder Bier\, extra fürs Maibaumfest gebraut von der Maischerei Mayr & Müller. Das Angebot passt haargenau zum Termin: ein würziger\, goldgelber Maibock! \nMaibowle und Sekt (gemischt oder pur) gibt es am Pavillion bei den freundlichen Damen\, die die Jugendfeuerwehr Lengfeld unterstützen. Ein oder zwei Gläschen für einen guten Zweck schaden deshalb auf keinen Fall! Selbstgemachte Waffeln\, Kaffee und Kuchen bringt der Elternbeirat vom Kinderhaus Sonnenblume mit. Wie im vergangenen Jahr lockt der Eiswagen von „eismathiööö“ aus Estenfeld mit selbstgemachter Eiscreme „a la italiana“ die Schleckermäuler an. \nZu einem Fest gehört Musik: Natürlich spielt die Lengfelder Blaskapelle an einem solchen Frühlingstag wieder auf.
URL:https://wob24.net/event/1-mai-lengfeld-tanzt-in-den-fruehling/
LOCATION:Platz vor der Kürnachtalhalle Lengfeld\, Werner-von-Siemens-Straße 118\, Würzburg
CATEGORIES:Maibaumfeier
ATTACH;FMTTYPE=image/jpeg:https://wob24.net/wp-content/uploads/2025/04/Lengfeld-Maibaumfeier.jpg
END:VEVENT
END:VCALENDAR