BEGIN:VCALENDAR
VERSION:2.0
PRODID:-//wob Würzburgs Wochenzeitung - ECPv6.15.18//NONSGML v1.0//EN
CALSCALE:GREGORIAN
METHOD:PUBLISH
X-WR-CALNAME:wob Würzburgs Wochenzeitung
X-ORIGINAL-URL:https://wob24.net
X-WR-CALDESC:Veranstaltungen für wob Würzburgs Wochenzeitung
REFRESH-INTERVAL;VALUE=DURATION:PT1H
X-Robots-Tag:noindex
X-PUBLISHED-TTL:PT1H
BEGIN:VTIMEZONE
TZID:Europe/Berlin
BEGIN:DAYLIGHT
TZOFFSETFROM:+0100
TZOFFSETTO:+0200
TZNAME:CEST
DTSTART:20230326T010000
END:DAYLIGHT
BEGIN:STANDARD
TZOFFSETFROM:+0200
TZOFFSETTO:+0100
TZNAME:CET
DTSTART:20231029T010000
END:STANDARD
BEGIN:DAYLIGHT
TZOFFSETFROM:+0100
TZOFFSETTO:+0200
TZNAME:CEST
DTSTART:20240331T010000
END:DAYLIGHT
BEGIN:STANDARD
TZOFFSETFROM:+0200
TZOFFSETTO:+0100
TZNAME:CET
DTSTART:20241027T010000
END:STANDARD
BEGIN:DAYLIGHT
TZOFFSETFROM:+0100
TZOFFSETTO:+0200
TZNAME:CEST
DTSTART:20250330T010000
END:DAYLIGHT
BEGIN:STANDARD
TZOFFSETFROM:+0200
TZOFFSETTO:+0100
TZNAME:CET
DTSTART:20251026T010000
END:STANDARD
END:VTIMEZONE
BEGIN:VEVENT
DTSTART;TZID=Europe/Berlin:20241213T200000
DTEND;TZID=Europe/Berlin:20241213T200000
DTSTAMP:20260423T144445
CREATED:20241007T091151Z
LAST-MODIFIED:20241007T091236Z
UID:22523-1734120000-1734120000@wob24.net
SUMMARY:„Es leuchten die Sterne“: Ulrich Tukur & Die Rhythmus Boys in der St. Johannis Kirche Würzburg
DESCRIPTION:„Es leuchten die Sterne am Himmel für dich\, sie glänzen und glühen am Firmament… – was wäre das Weltall ohne sie?“ Und was wäre das Leben ohne die schwerelose Musik von „Ulrich Tukur & die Rhythmus Boys“\, die es seit bald einem Menschenalter verstehen\, Finsternis in Licht und Traurigkeit in beste Laune zu verwandeln? Auf diese Frage gibt der charmante Schauspieler Ulrich Tukur (Das Leben der Anderen\, Tatort) am 13. Dezember 2024 in der St. Johannis Kirche in Würzburg seine musikalische Antwort. \n„Es leuchten die Sterne“ beschwingt mit  Jazz-\, Swing- und Chanson-Klassikern hauptsächlich aus den 1930er Jahren – darunter Lieder wie „The Continental“\, „Schwarzer Panther“\, „Happy Feet“\, „Nasse Lyrik“\, „Das Großstadt-Lied“\, „Traummusik“\, „Es leuchten die Sterne“\, „Anything Goes“\, neben italienischen und französischen Schlagern der Weltklasse. \nTermin: Ulrich Tukur & Die Rhythmus Boys. „Es leuchten die Sterne – Tour 2024“. Freitag\, 13. Dezember 2024\, 20 Uhr\, Würzburg\, St. Johannis Kirche\, Einlass 19 Uhr. \nTickets online bei reservix.de\, eventim.de sowie bei allen bekannten VVK-Stellen.
URL:https://wob24.net/event/ulrich-tukur-rhythmus-boys-wuerzburg-2024/
LOCATION:St. Johanniskirche\, Hofstallstraße 5\, Würzburg
CATEGORIES:Konzert
ATTACH;FMTTYPE=image/jpeg:https://wob24.net/wp-content/uploads/2024/10/PR-Gixx-UlrichTukur.jpg
END:VEVENT
END:VCALENDAR