BEGIN:VCALENDAR
VERSION:2.0
PRODID:-//wob Würzburgs Wochenzeitung - ECPv6.15.18//NONSGML v1.0//EN
CALSCALE:GREGORIAN
METHOD:PUBLISH
X-ORIGINAL-URL:https://wob24.net
X-WR-CALDESC:Veranstaltungen für wob Würzburgs Wochenzeitung
REFRESH-INTERVAL;VALUE=DURATION:PT1H
X-Robots-Tag:noindex
X-PUBLISHED-TTL:PT1H
BEGIN:VTIMEZONE
TZID:Europe/Berlin
BEGIN:DAYLIGHT
TZOFFSETFROM:+0100
TZOFFSETTO:+0200
TZNAME:CEST
DTSTART:20250330T010000
END:DAYLIGHT
BEGIN:STANDARD
TZOFFSETFROM:+0200
TZOFFSETTO:+0100
TZNAME:CET
DTSTART:20251026T010000
END:STANDARD
BEGIN:DAYLIGHT
TZOFFSETFROM:+0100
TZOFFSETTO:+0200
TZNAME:CEST
DTSTART:20260329T010000
END:DAYLIGHT
BEGIN:STANDARD
TZOFFSETFROM:+0200
TZOFFSETTO:+0100
TZNAME:CET
DTSTART:20261025T010000
END:STANDARD
BEGIN:DAYLIGHT
TZOFFSETFROM:+0100
TZOFFSETTO:+0200
TZNAME:CEST
DTSTART:20270328T010000
END:DAYLIGHT
BEGIN:STANDARD
TZOFFSETFROM:+0200
TZOFFSETTO:+0100
TZNAME:CET
DTSTART:20271031T010000
END:STANDARD
END:VTIMEZONE
BEGIN:VEVENT
DTSTART;VALUE=DATE:20260314
DTEND;VALUE=DATE:20260330
DTSTAMP:20260426T031032
CREATED:20260309T112211Z
LAST-MODIFIED:20260309T112221Z
UID:26987-1773446400-1774828799@wob24.net
SUMMARY:Würzburger Frühjahrsvolksfest
DESCRIPTION:Würzburg feiert den Frühling: Von Samstag\, 14. März\, bis einschließlich Sonntag\, 29. März findet das Frühjahrsvolksfest auf der Talavera statt. 50 Schausteller und die Festwirtsfamilie Hahn präsentieren ein attraktives und abwechslungsreiches Angebot. Modernste Fahrgeschäfte treffen auf beliebte Klassiker. Wer auf nüchternen Magen nicht Karussell fahren mag\, der schätzt die große Auswahl an herzhaften wie süßen Leckereien und Spezialitäten. \nErste Stunde: Alle Fahrgeschäfte für 1\,99!\nDas Frühjahrsvolksfest startet am Samstag\, 14. März um Punkt 14 Uhr. Ein echter Knaller gleich zu Beginn: In der ersten Stunde des Frühjahrsvolksfestes (bis 15 Uhr) können die Besucher die Fahr- und Belustigungsgeschäfte auf dem Festplatz für 1\,99 Euro testen! \nUm 16 Uhr wird das Frühjahrsvolksfest dann offiziell eröffnet: Oberbürgermeister Martin Heilig sticht im Festzelt von Michael Hahn das erste Fass Bier an. Genießen Sie das speziell eingebraute Frühjahrs-Festbier der Würzburger Hofbräu und wählen Sie aus dem vielfältigen Speisenangebot der Festwirtsfamilie Hahn. \nWann gibt´s was Besonderes?\n\nFamilientage mit zahlreichen Sonderangeboten: Jeweils am Mittwoch (18. und 25. März von 14 bis 20 Uhr) locken halbe Fahr- und Eintrittspreise sowie Sonderangebote auf dem ganzen Platz.\nBoxen im Festzelt: Die Boxabteilung der Würzburger Kickers tritt am Sonntag\, 22. März\, um 10 Uhr gegen den 1. ASC Nürnberg Süd 07 an. Der Eintritt beträgt 10 Euro.\nEntspannte Stunden auf dem Frühjahrsvolksfest: Am Montag\, 16. März\, findet von 14 bis 17 Uhr der reizarme Nachmittag statt – mit reduzierter Lautstärke und angepasster Beleuchtung.\nFeuerwerk: beim Frühjahrsvolksfest traditionell am mittleren Freitag (20. März\, 22 Uhr).\n\nÖffnungszeiten des Volksfestes: \nmontags bis donnerstags von 14 bis 23 Uhr\, freitags und samstags von 14 bis 24 Uhr. Sonntags 11.30 (Festzelt) bzw. 12.00 Uhr (Platz) bis 22.30 Uhr. \nReservierung im Festzelt: Tel. 0931/4607 9900\, E-Mail reservierung@hahnzelt.de und www.hahnzelt.de
URL:https://wob24.net/event/wuerzburger-fruehjahrsvolksfest/
LOCATION:Talavera\, Mainaustraße\, Würzburg
CATEGORIES:Volksfest
ATTACH;FMTTYPE=image/jpeg:https://wob24.net/wp-content/uploads/2026/03/PR-Fruehjahrsvolksfest-1.jpg
END:VEVENT
BEGIN:VEVENT
DTSTART;TZID=Europe/Berlin:20260322T100000
DTEND;TZID=Europe/Berlin:20260322T100000
DTSTAMP:20260426T031032
CREATED:20260303T132839Z
LAST-MODIFIED:20260303T132851Z
UID:26961-1774173600-1774173600@wob24.net
SUMMARY:Frühjahrsvolksfest: Boxen im Festzelt
DESCRIPTION:Ring frei im Festzelt: Nach sieben Jahren Box-Pause auf dem Frühjahrsvolksfest findet am  Sonntag\, 22. März 2026 ein Vergleichskampf der Würzburger Kickers gegen eine Auswahl vom 1.ASC Nürnberg im Festzelt statt. \nGeplant sind zehn Kämpfe\, darunter ein Frauenkampf. Für die Nürnberger steigt die fünffache bayerische und fünffache deutsche Meisterin Marie Retzer in den Ring. \nDer Gastgeber verstärkt sich mit Athleten vom Würzburger Boxclub Tommy. Mit dabei: Jeremy Bursalioglu (Bayerischer Meister und mehrfacher Frankenmeister) und Morice Schmitt (Bayerischer Vizemeister). Darüber hinaus verstärken Boxer vom TSV Bad Kissingen die Kickers-Mannschaft. \nEiner der Höhepunkte wird der Kampf im Mittelgewicht mit Mohammad Shadab (deutscher Meister und amtierender Frankenmeister 2025) sein. \nEinlass ist ab 9 Uhr\, es gibt ein Weißwurstfrühstück im geheizten Festzelt. Der Eintritt kostet 10 Euro (ermäßigt 7 Euro). Die Kämpfe beginnen um 10 Uhr. \nUnser Bild: Der Deutsche Meister Mohammad Shadab (Würzburger Kickers\, links) mit Trainer Ramush. Foto Manfred Borst
URL:https://wob24.net/event/fruehjahrsvolksfest-boxen-2026/
CATEGORIES:Sport
ATTACH;FMTTYPE=image/jpeg:https://wob24.net/wp-content/uploads/2026/03/Veranstaltung-Fruehjahrsvolksfest-Boxen-e1772544436909.jpg
END:VEVENT
END:VCALENDAR