BEGIN:VCALENDAR
VERSION:2.0
PRODID:-//wob Würzburgs Wochenzeitung - ECPv6.15.18//NONSGML v1.0//EN
CALSCALE:GREGORIAN
METHOD:PUBLISH
X-WR-CALNAME:wob Würzburgs Wochenzeitung
X-ORIGINAL-URL:https://wob24.net
X-WR-CALDESC:Veranstaltungen für wob Würzburgs Wochenzeitung
REFRESH-INTERVAL;VALUE=DURATION:PT1H
X-Robots-Tag:noindex
X-PUBLISHED-TTL:PT1H
BEGIN:VTIMEZONE
TZID:Europe/Berlin
BEGIN:DAYLIGHT
TZOFFSETFROM:+0100
TZOFFSETTO:+0200
TZNAME:CEST
DTSTART:20240331T010000
END:DAYLIGHT
BEGIN:STANDARD
TZOFFSETFROM:+0200
TZOFFSETTO:+0100
TZNAME:CET
DTSTART:20241027T010000
END:STANDARD
BEGIN:DAYLIGHT
TZOFFSETFROM:+0100
TZOFFSETTO:+0200
TZNAME:CEST
DTSTART:20250330T010000
END:DAYLIGHT
BEGIN:STANDARD
TZOFFSETFROM:+0200
TZOFFSETTO:+0100
TZNAME:CET
DTSTART:20251026T010000
END:STANDARD
BEGIN:DAYLIGHT
TZOFFSETFROM:+0100
TZOFFSETTO:+0200
TZNAME:CEST
DTSTART:20260329T010000
END:DAYLIGHT
BEGIN:STANDARD
TZOFFSETFROM:+0200
TZOFFSETTO:+0100
TZNAME:CET
DTSTART:20261025T010000
END:STANDARD
END:VTIMEZONE
BEGIN:VEVENT
DTSTART;VALUE=DATE:20251128
DTEND;VALUE=DATE:20251129
DTSTAMP:20260420T173431
CREATED:20251119T090210Z
LAST-MODIFIED:20251119T090231Z
UID:26198-1764288000-1764374399@wob24.net
SUMMARY:Black Friday Würzburg
DESCRIPTION:Aus zwei mach eins: Immer Ende November findet in Würzburg der international bekannte Einkaufstag „Black Friday“ statt – auch in diesem Jahr direkt gefolgt von der Shoppingnacht „Lichterglanz“. Ab sofort gilt aufgrund des neuen bayerischen Ladenschlussgesetzes: Beide Aktionen erstrecken sich auf das gesamte Stadtgebiet. Somit werden „Black Friday Würzburg“ und „Lichterglanz“ zu einem großen „Super Shopping Weekend“ für die gesamte Stadt vereint und läuten den Start ins Weihnachtsgeschäft ein. \n„Black Friday Würzburg“ im gesamten Stadtgebiet\nLos geht‘s am Freitag\, 28. November mit dem „Black Friday Würzburg“. Wie schon in den Vorjahren soll dieser Tag kein reiner Rabatt-Tag\, sondern ein lebendiges Event sein und das Einkaufserlebnis für die Kundschaft zum Vergnügen machen. \nOb Mode\, Schuhe\, Schmuck\, Elektronik\, Kosmetik\, Spielzeug\, Bücher oder Möbel – beim „Black Friday Würzburg“ werden die Kunden garantiert fündig und können Weihnachtsgeschenke für Familie und Freunde schon frühzeitig erwerben. Auch die Würzburger Gastronomie und der Dienstleistungssektor beteiligen sich mit Spezialangeboten. \nDer „Black Friday Würzburg“ findet am 29. November zu den üblichen Öffnungszeiten der teilnehmenden Unternehmen statt und bietet für Kunden und Gäste beste Produkte mit individueller Beratung. Manche Geschäfte locken mit besonderen Serviceaktionen oder Rabatten auf bestimmte Warengruppen.
URL:https://wob24.net/event/black-friday-wuerzburg-2/
LOCATION:Würzburg\, Würzburg
CATEGORIES:Shopping
ATTACH;FMTTYPE=image/jpeg:https://wob24.net/wp-content/uploads/2025/11/Black-Friday-Verbraucherzentrale.jpg
END:VEVENT
END:VCALENDAR