BEGIN:VCALENDAR
VERSION:2.0
PRODID:-//wob Würzburgs Wochenzeitung - ECPv6.15.18//NONSGML v1.0//EN
CALSCALE:GREGORIAN
METHOD:PUBLISH
X-WR-CALNAME:wob Würzburgs Wochenzeitung
X-ORIGINAL-URL:https://wob24.net
X-WR-CALDESC:Veranstaltungen für wob Würzburgs Wochenzeitung
REFRESH-INTERVAL;VALUE=DURATION:PT1H
X-Robots-Tag:noindex
X-PUBLISHED-TTL:PT1H
BEGIN:VTIMEZONE
TZID:Europe/Berlin
BEGIN:DAYLIGHT
TZOFFSETFROM:+0100
TZOFFSETTO:+0200
TZNAME:CEST
DTSTART:20240331T010000
END:DAYLIGHT
BEGIN:STANDARD
TZOFFSETFROM:+0200
TZOFFSETTO:+0100
TZNAME:CET
DTSTART:20241027T010000
END:STANDARD
BEGIN:DAYLIGHT
TZOFFSETFROM:+0100
TZOFFSETTO:+0200
TZNAME:CEST
DTSTART:20250330T010000
END:DAYLIGHT
BEGIN:STANDARD
TZOFFSETFROM:+0200
TZOFFSETTO:+0100
TZNAME:CET
DTSTART:20251026T010000
END:STANDARD
BEGIN:DAYLIGHT
TZOFFSETFROM:+0100
TZOFFSETTO:+0200
TZNAME:CEST
DTSTART:20260329T010000
END:DAYLIGHT
BEGIN:STANDARD
TZOFFSETFROM:+0200
TZOFFSETTO:+0100
TZNAME:CET
DTSTART:20261025T010000
END:STANDARD
END:VTIMEZONE
BEGIN:VEVENT
DTSTART;TZID=Europe/Berlin:20250405T093000
DTEND;TZID=Europe/Berlin:20250405T153000
DTSTAMP:20260420T035543
CREATED:20250325T092250Z
LAST-MODIFIED:20250325T092256Z
UID:24089-1743845400-1743867000@wob24.net
SUMMARY:BerufsInformationstag BIT: Auf der Suche nach dem perfekten Ausbildungsplatz?
DESCRIPTION:Der von den Wirtschaftsjunioren Würzburg veranstaltete BerufsInformationstag (BIT) ist auch 2025 wieder am Start: Die beliebte Informationsmesse findet am Samstag\, 5. April von 9:30 bis 15:30 Uhr in der tectake-Arena Würzburg statt. Der Eintritt ist frei. \nDen BIT sollte sich kein Schüler\, der sich bald für einen Beruf entscheiden will\, entgehen lassen: Die Messe präsentiert die verschiedenen Ausbildungsberufe und Dualen Studiengänge von über 100 regionalen Unternehmen. „Die Besucher erhalten praxisorientierte Informationen zu einer Vielzahl von Berufen im regionalen Bereich“\, werben die Wirtschaftsjunioren. „Hier lernt Ihr die unterschiedlichsten Berufsbilder in kürzester Zeit kennen\, um eine perfekte berufliche Laufbahn einzuschlagen. Ihr könnt euch direkt mit Azubis unterhalten und Berufsinhalte realitätsnah erfahren.“ \nViele Vorträge\, Broschüren mit Informationen und interessante Ansprechpartner runden das Geschehen ab und erleichtern die Berufswahl. „Oder ihr findet auf der Ausbildungswand direkt Euren Wunschbetrieb und geht sogar mit einem Vertrag nach Hause!“ \nEingeladen sind die Schüler aller Schularten. Eine Übersicht über alle teilnehmenden Ausbildungsbetriebe und angebotenen Ausbildungsberufe inklusive Messeplan finden Sie hier: www.bit-wuerzburg.de
URL:https://wob24.net/event/berufsinformationstag-bit-auf-der-suche-nach-dem-perfekten-ausbildungsplatz/
LOCATION:TecTake Arena\, Stettiner Straße 1\, Würzburg
CATEGORIES:Messe
ATTACH;FMTTYPE=image/jpeg:https://wob24.net/wp-content/uploads/2025/03/Beruf-BIT.jpg
END:VEVENT
END:VCALENDAR