BEGIN:VCALENDAR
VERSION:2.0
PRODID:-//wob Würzburgs Wochenzeitung - ECPv6.15.18//NONSGML v1.0//EN
CALSCALE:GREGORIAN
METHOD:PUBLISH
X-WR-CALNAME:wob Würzburgs Wochenzeitung
X-ORIGINAL-URL:https://wob24.net
X-WR-CALDESC:Veranstaltungen für wob Würzburgs Wochenzeitung
REFRESH-INTERVAL;VALUE=DURATION:PT1H
X-Robots-Tag:noindex
X-PUBLISHED-TTL:PT1H
BEGIN:VTIMEZONE
TZID:Europe/Berlin
BEGIN:DAYLIGHT
TZOFFSETFROM:+0100
TZOFFSETTO:+0200
TZNAME:CEST
DTSTART:20240331T010000
END:DAYLIGHT
BEGIN:STANDARD
TZOFFSETFROM:+0200
TZOFFSETTO:+0100
TZNAME:CET
DTSTART:20241027T010000
END:STANDARD
BEGIN:DAYLIGHT
TZOFFSETFROM:+0100
TZOFFSETTO:+0200
TZNAME:CEST
DTSTART:20250330T010000
END:DAYLIGHT
BEGIN:STANDARD
TZOFFSETFROM:+0200
TZOFFSETTO:+0100
TZNAME:CET
DTSTART:20251026T010000
END:STANDARD
BEGIN:DAYLIGHT
TZOFFSETFROM:+0100
TZOFFSETTO:+0200
TZNAME:CEST
DTSTART:20260329T010000
END:DAYLIGHT
BEGIN:STANDARD
TZOFFSETFROM:+0200
TZOFFSETTO:+0100
TZNAME:CET
DTSTART:20261025T010000
END:STANDARD
END:VTIMEZONE
BEGIN:VEVENT
DTSTART;TZID=Europe/Berlin:20250322T100000
DTEND;TZID=Europe/Berlin:20250322T150000
DTSTAMP:20260420T052810
CREATED:20250311T111202Z
LAST-MODIFIED:20250311T111211Z
UID:23943-1742637600-1742655600@wob24.net
SUMMARY:Tag des dualen Studiums an der DHBW Mosbach
DESCRIPTION:Duale Studiengänge und Partnerunternehmen entdecken: Am 22. März 2025 öffnet die Duale Hochschule Baden-Württemberg (DHBW) Mosbach ihre Türen zum Tag des dualen Studiums. \nÜber 110 Partnerunternehmen aus ganz Deutschland – darunter zahlreiche Weltmarktführer und Hidden Champions – präsentieren an diesem Tag ihre dualen Studienangebote und Einstiegsmöglichkeiten. Schülerinnen und Schüler sowie deren Eltern haben die Gelegenheit\, sich aus erster Hand über das duale Studium zu informieren. Personalverantwortliche\, aktuell Studierende sowie Professorinnen und Professoren stehen für persönliche Beratungsgespräche bereit und geben Einblicke in die enge Verzahnung von Theorie und Praxis. \nStudienplatz-Speeddating\nZu den Highlights der Veranstaltung zählt das beliebte Studienplatz-Speeddating\, bei dem rund 50 Unternehmen aus verschiedenen Branchen auf der Suche nach motivierten Bewerberinnen und Bewerbern für 2025 und 2026 sind. In zehnminütigen Gesprächen können sich Schülerinnen und Schüler direkt bei den Unternehmen vorstellen und bei gegenseitigem Interesse den weiteren Bewerbungsprozess vereinbaren. \nEin zentrales Informationsforum bietet umfassende Einblicke in das duale Studium an der DHBW Mosbach\, informiert über die Möglichkeit eines Auslandssemesters und stellt die rund 30 betriebswirtschaftlichen und technischen Studienangebote vor. Ergänzt wird das Programm durch spannende Kurzvorträge der Partnerunternehmen\, in denen diese ihre dualen Studienangebote präsentieren. Bei Laborführungen erhalten Besucherinnen und Besucher zudem einen direkten Einblick in die modernen Räumlichkeiten der Hochschule und die praxisnahe Ausbildung vor Ort. \nWeitere Informationen zum Programm sowie eine Übersicht aller teilnehmenden Unternehmen sind online unter www.mosbach.dhbw.de/tag-des-dualen-studiums zu finden. \nEckdaten der Veranstaltung:\nDatum: Samstag\, 22. März 2025 \nUhrzeit: 10:00 – 15:00 Uhr \nOrt: DHBW Mosbach\, Lohrtalweg 10\, 74821 Mosbach \nDas duale Studium an der DHBW Mosbach vereint Theorie und Praxis in idealer Weise. Die Studienzeit ist in einen dreimonatigen Wechsel zwischen Hochschule und Unternehmen\, dem sogenannten Dualen Partner\, unterteilt. Dadurch wird eine enge Verbindung zwischen wissenschaftlichem Lernen und beruflicher Praxis geschaffen.
URL:https://wob24.net/event/tag-des-dualen-studiums-an-der-dhbw-mosbach/
LOCATION:DHBW Mosbach\, Lohrtalweg 10\, Mosbach
CATEGORIES:Tag der offenen Tür
ATTACH;FMTTYPE=image/jpeg:https://wob24.net/wp-content/uploads/2025/03/PR-Duale-Hochschule-Mosbach.jpg
END:VEVENT
END:VCALENDAR