BEGIN:VCALENDAR
VERSION:2.0
PRODID:-//wob Würzburgs Wochenzeitung - ECPv6.15.18//NONSGML v1.0//EN
CALSCALE:GREGORIAN
METHOD:PUBLISH
X-WR-CALNAME:wob Würzburgs Wochenzeitung
X-ORIGINAL-URL:https://wob24.net
X-WR-CALDESC:Veranstaltungen für wob Würzburgs Wochenzeitung
REFRESH-INTERVAL;VALUE=DURATION:PT1H
X-Robots-Tag:noindex
X-PUBLISHED-TTL:PT1H
BEGIN:VTIMEZONE
TZID:Europe/Berlin
BEGIN:DAYLIGHT
TZOFFSETFROM:+0100
TZOFFSETTO:+0200
TZNAME:CEST
DTSTART:20240331T010000
END:DAYLIGHT
BEGIN:STANDARD
TZOFFSETFROM:+0200
TZOFFSETTO:+0100
TZNAME:CET
DTSTART:20241027T010000
END:STANDARD
BEGIN:DAYLIGHT
TZOFFSETFROM:+0100
TZOFFSETTO:+0200
TZNAME:CEST
DTSTART:20250330T010000
END:DAYLIGHT
BEGIN:STANDARD
TZOFFSETFROM:+0200
TZOFFSETTO:+0100
TZNAME:CET
DTSTART:20251026T010000
END:STANDARD
BEGIN:DAYLIGHT
TZOFFSETFROM:+0100
TZOFFSETTO:+0200
TZNAME:CEST
DTSTART:20260329T010000
END:DAYLIGHT
BEGIN:STANDARD
TZOFFSETFROM:+0200
TZOFFSETTO:+0100
TZNAME:CET
DTSTART:20261025T010000
END:STANDARD
END:VTIMEZONE
BEGIN:VEVENT
DTSTART;TZID=Europe/Berlin:20251203T200000
DTEND;TZID=Europe/Berlin:20251203T200000
DTSTAMP:20260421T000434
CREATED:20251118T111537Z
LAST-MODIFIED:20251118T111549Z
UID:26189-1764792000-1764792000@wob24.net
SUMMARY:Die Welt in Bildern: „Oman – Im Sultanat der Herzlichkeit“
DESCRIPTION:Was den Arabien-Kenner Hardy Fiebig am Sultanat Oman so fasziniert\, zeigt er eindrucksvoll in seiner Reise-Reportage: Von der Halbinsel Musandam am Persisch-Arabischen Golf im Norden mit 2.000 Meter hohen\, steil ins Meer stürzenden Bergriegeln reist er bis in die Weihrauch-Provinz Dhofar im Süden. \nWeitere Highlights sind spektakuläre Felskulissen und tief eingeschnittene Wadis sowie glitzernde Städte wie die Hauptstadt Muskat\, Nizwa als Mekka der Lehmarchitektur oder die Hafenstadt Sur\, die über Jahrhunderte für den Handel mit Ostafrika und Indien bedeutsam war. Spektakulär sind die 2.000 Kilometer lange Küste oder die Königin der arabischen Wüsten\, die gewaltige Rubb al-Khali. \nDank seiner Arabischkenntnisse nimmt Hardy Fiebig am Alltag von Beduinenfamilien\, Oasenbauern\, Kamelzüchtern\, Tierhändlern und Weihrauchsammlern teil. Beeindruckend ist die Herzlichkeit und Gastfreundschaft der Omanis. Dank politischer Stabilität\, Sicherheit sowie ausgezeichneter Infrastruktur ist der Oman ein perfektes Einsteiger-Land für Arabien-Neulinge. \nTermin: Live-Multivision „Oman – Im Sultanat der Herzlichkeit“ am Mittwoch\, 3. Dezember um 20 Uhr im Gemeindezentrum Heiligkreuz\, Hartmannstraße 29\, Würzburg. Karten im Vorverkauf bei Foto Weber in der Schustergasse\, im Falkenhaus\, im Reisebüro Reiseland in der Spiegelstraße und bei der Touristinfo Veitshöchheim. Weitere Info und Online-Tickets: www.die-welt-in-bildern.com \nFotos Hardy Fiebig
URL:https://wob24.net/event/die-welt-in-bildern-oman-im-sultanat-der-herzlichkeit/
LOCATION:Gemeindezentrum Heiligkreuz\, Hartmannstraße 29\, Würzburg
CATEGORIES:Vortrag
ATTACH;FMTTYPE=image/jpeg:https://wob24.net/wp-content/uploads/2025/11/Veranstaltung-Oman-1.jpg
END:VEVENT
END:VCALENDAR