BEGIN:VCALENDAR
VERSION:2.0
PRODID:-//wob Würzburgs Wochenzeitung - ECPv6.15.18//NONSGML v1.0//EN
CALSCALE:GREGORIAN
METHOD:PUBLISH
X-ORIGINAL-URL:https://wob24.net
X-WR-CALDESC:Veranstaltungen für wob Würzburgs Wochenzeitung
REFRESH-INTERVAL;VALUE=DURATION:PT1H
X-Robots-Tag:noindex
X-PUBLISHED-TTL:PT1H
BEGIN:VTIMEZONE
TZID:Europe/Berlin
BEGIN:DAYLIGHT
TZOFFSETFROM:+0100
TZOFFSETTO:+0200
TZNAME:CEST
DTSTART:20240331T010000
END:DAYLIGHT
BEGIN:STANDARD
TZOFFSETFROM:+0200
TZOFFSETTO:+0100
TZNAME:CET
DTSTART:20241027T010000
END:STANDARD
BEGIN:DAYLIGHT
TZOFFSETFROM:+0100
TZOFFSETTO:+0200
TZNAME:CEST
DTSTART:20250330T010000
END:DAYLIGHT
BEGIN:STANDARD
TZOFFSETFROM:+0200
TZOFFSETTO:+0100
TZNAME:CET
DTSTART:20251026T010000
END:STANDARD
BEGIN:DAYLIGHT
TZOFFSETFROM:+0100
TZOFFSETTO:+0200
TZNAME:CEST
DTSTART:20260329T010000
END:DAYLIGHT
BEGIN:STANDARD
TZOFFSETFROM:+0200
TZOFFSETTO:+0100
TZNAME:CET
DTSTART:20261025T010000
END:STANDARD
END:VTIMEZONE
BEGIN:VEVENT
DTSTART;TZID=Europe/Berlin:20251111T200000
DTEND;TZID=Europe/Berlin:20251111T200000
DTSTAMP:20260421T014133
CREATED:20251030T121439Z
LAST-MODIFIED:20251030T121446Z
UID:26022-1762891200-1762891200@wob24.net
SUMMARY:Japan – Tradition trifft Moderne: Vortragsreihe „Die Welt in Bildern“ mit Oliver Bolch
DESCRIPTION:Japan ist bekannt für seine Gegensätze. Durch eine über 200 Jahre dauernde Abschottung des Landes\, die bis in die Mitte des 19. Jahrhundert dauerte\, hat sich die Kultur ohne Einflüsse von außen entwickelt. So sind die Menschen noch immer tief verwurzelt in jahrhundertealten Traditionen\, und gleichzeitig umarmen sie die moderne Technologie. \nIn seinem Vortrag nimmt Sie Oliver Bolch mit auf eine visuelle Reise durch die faszinierende Welt Japans und präsentiert eine einzigartige Mischung aus moderner Lebendigkeit und jahrhundertealtem Brauchtum\, die die Magie dieses faszinierenden Landes widerspiegelt. Oliver Bolch berichtet mit großartiger Fotografie\, wie sich die jahrhundertealten Traditionen des Landes mit der Moderne vereinen. \nVon der pulsierenden Metropole Tokyo bis hin zur atemberaubenden Kirschblüte und dem majestätischen Fuji. Kyoto mit prächtigen Tempeln\, die einzigartigen Natur Hokkaidos mit tief verschneiten Landschaften\, seltenen Tieren und mystischen Vulkanlandschaften. Die Magie Japans verzaubert! \nTermin: Live-Multivision „Japan“ – Land der Gegensätze am Dienstag\, 11. November um 20 Uhr im Gemeindezentrum Heiligkreuz\, Hartmannstraße 29\, Würzburg. Karten im Vorverkauf bei Foto Weber in der Schustergasse\, im Falkenhaus\, im Reisebüro Reiseland in der Spiegelstraße und bei der Touristinfo Veitshöchheim. Weitere Info und Online-Tickets: www.die-welt-in-bildern.com
URL:https://wob24.net/event/japan-tradition-trifft-moderne-vortragsreihe-die-welt-in-bildern-mit-oliver-bolch/
LOCATION:Gemeindezentrum Heiligkreuz\, Hartmannstraße 29\, Würzburg
CATEGORIES:Vortrag
ATTACH;FMTTYPE=image/jpeg:https://wob24.net/wp-content/uploads/2025/10/Veranstaltung-Japan-Verlosung-1.jpg
END:VEVENT
END:VCALENDAR