BEGIN:VCALENDAR
VERSION:2.0
PRODID:-//wob Würzburgs Wochenzeitung - ECPv6.15.18//NONSGML v1.0//EN
CALSCALE:GREGORIAN
METHOD:PUBLISH
X-ORIGINAL-URL:https://wob24.net
X-WR-CALDESC:Veranstaltungen für wob Würzburgs Wochenzeitung
REFRESH-INTERVAL;VALUE=DURATION:PT1H
X-Robots-Tag:noindex
X-PUBLISHED-TTL:PT1H
BEGIN:VTIMEZONE
TZID:Europe/Berlin
BEGIN:DAYLIGHT
TZOFFSETFROM:+0100
TZOFFSETTO:+0200
TZNAME:CEST
DTSTART:20240331T010000
END:DAYLIGHT
BEGIN:STANDARD
TZOFFSETFROM:+0200
TZOFFSETTO:+0100
TZNAME:CET
DTSTART:20241027T010000
END:STANDARD
BEGIN:DAYLIGHT
TZOFFSETFROM:+0100
TZOFFSETTO:+0200
TZNAME:CEST
DTSTART:20250330T010000
END:DAYLIGHT
BEGIN:STANDARD
TZOFFSETFROM:+0200
TZOFFSETTO:+0100
TZNAME:CET
DTSTART:20251026T010000
END:STANDARD
BEGIN:DAYLIGHT
TZOFFSETFROM:+0100
TZOFFSETTO:+0200
TZNAME:CEST
DTSTART:20260329T010000
END:DAYLIGHT
BEGIN:STANDARD
TZOFFSETFROM:+0200
TZOFFSETTO:+0100
TZNAME:CET
DTSTART:20261025T010000
END:STANDARD
END:VTIMEZONE
BEGIN:VEVENT
DTSTART;TZID=Europe/Berlin:20250313T200000
DTEND;TZID=Europe/Berlin:20250313T200000
DTSTAMP:20260421T150845
CREATED:20250306T135725Z
LAST-MODIFIED:20250306T135731Z
UID:23909-1741896000-1741896000@wob24.net
SUMMARY:Die Welt in Bildern - Baltikum: Estland-Lettland-Litauen-Königsberg
DESCRIPTION:Kaum irgendwo sonst liegen unberührte Natur und kulturelle Vielfalt so dicht beieinander wie im Baltikum. Aber Estland\, Lettland\, Litauen und die russische Exklave Kaliningrad\, das frühere Königsberg\, gelten immer noch als Geheimtipp. \nSeit vielen Jahren bereisen die National Geographic Fotografen Aneta und Dirk Bleyer diese geschichtsträchtige Region. Eine verträumte Landschaft\, die von romantischen Seen und stillen Mooren durchzogen ist\, wo die deutschen Spuren bis zu den Kreuzrittern zurückreichen. \nIn ihrer anspruchsvollen Multivision hinterlassen nicht nur die herzlichen Bewohner und ländlichen Nachbarn der Metropolen Tallinn\, Riga und Vilnius tiefe Eindrücke. Vielmehr steht auch die einzigartige Mischung aus Natur\, Kultur und einer bewegten Geschichte im Fokus. Die Bleyers präsentieren nicht nur die Landschaft in stimmungsvollen Bildern und Filmaufnahmen\, sondern sie begegnen auch vielen Menschen und erzählen von deren bewegten Schicksalen. \nTermin: Donnerstag\, 13. März 2025\, Beginn 20:00 Uhr im Gemeindezentrum Heiligkreuz\, Würzburg-Zellerau\, Hartmannstraße 29. Kartenvorverkauf bei Foto Weber in der Schustergasse\, bei der Touristinfo im Falkenhaus und bei der Touristinfo Veitshöchheim. Online-Tickets: www.die-welt-in-bildern.comlt
URL:https://wob24.net/event/die-welt-in-bildern-baltikum-estland-lettland-litauen-koenigsberg/
LOCATION:Gemeindezentrum Heiligkreuz\, Hartmannstraße 29\, Würzburg
CATEGORIES:Vortrag
ATTACH;FMTTYPE=image/jpeg:https://wob24.net/wp-content/uploads/2025/03/Veranstaltung-Caselmann-Baltikum.jpg
END:VEVENT
END:VCALENDAR