BEGIN:VCALENDAR
VERSION:2.0
PRODID:-//wob Würzburgs Wochenzeitung - ECPv6.15.18//NONSGML v1.0//EN
CALSCALE:GREGORIAN
METHOD:PUBLISH
X-WR-CALNAME:wob Würzburgs Wochenzeitung
X-ORIGINAL-URL:https://wob24.net
X-WR-CALDESC:Veranstaltungen für wob Würzburgs Wochenzeitung
REFRESH-INTERVAL;VALUE=DURATION:PT1H
X-Robots-Tag:noindex
X-PUBLISHED-TTL:PT1H
BEGIN:VTIMEZONE
TZID:Europe/Berlin
BEGIN:DAYLIGHT
TZOFFSETFROM:+0100
TZOFFSETTO:+0200
TZNAME:CEST
DTSTART:20240331T010000
END:DAYLIGHT
BEGIN:STANDARD
TZOFFSETFROM:+0200
TZOFFSETTO:+0100
TZNAME:CET
DTSTART:20241027T010000
END:STANDARD
BEGIN:DAYLIGHT
TZOFFSETFROM:+0100
TZOFFSETTO:+0200
TZNAME:CEST
DTSTART:20250330T010000
END:DAYLIGHT
BEGIN:STANDARD
TZOFFSETFROM:+0200
TZOFFSETTO:+0100
TZNAME:CET
DTSTART:20251026T010000
END:STANDARD
BEGIN:DAYLIGHT
TZOFFSETFROM:+0100
TZOFFSETTO:+0200
TZNAME:CEST
DTSTART:20260329T010000
END:DAYLIGHT
BEGIN:STANDARD
TZOFFSETFROM:+0200
TZOFFSETTO:+0100
TZNAME:CET
DTSTART:20261025T010000
END:STANDARD
END:VTIMEZONE
BEGIN:VEVENT
DTSTART;TZID=Europe/Berlin:20250219T200000
DTEND;TZID=Europe/Berlin:20250219T200000
DTSTAMP:20260421T164338
CREATED:20250204T132012Z
LAST-MODIFIED:20250204T132310Z
UID:23641-1739995200-1739995200@wob24.net
SUMMARY:Vortragsreihe „Die Welt in Bildern“: Irland
DESCRIPTION:Wilde Landschaften\, wind umtobte Leuchttürme\, grüne Wiesen mit unzähligen Schafen. Kleine\, bunt angemalte Ortschaften und wunderbar gesellige Pubs mit irischer Folkmusik und offenen Menschen. All das ist Irland. Der Reisejournalist Olaf Schubert präsentiert in seiner Foto-Film-Reportage die ganze Faszination und Magie der grünen Insel. \nOlaf Schubert ist unterwegs am weltbekannten Ring of Kerry. Er folgt dem Wild Atlanic Way hinauf in den Norden zu den Cliffs of Moher und besteigt den heiligen Berg Irlands. Er nimmt am Pferderennen teil und ist unterwegs in der Einsamkeit Connemaras und Donegals. Auf den Blasket Islands filmt und fotografiert er die große Seehundpopulation. \nEine Foto-Film Reportage von Süd nach Nord und hinüber nach Nordirland. Musiker\, Fischer und Eigenbrötler interviewt er genauso wie Veteranen der IRA-Bewegung und schaut auf die heutige Entwicklung des Konfliktes\, der über den Brexit neue Bedeutung bekommt. \nTermin: Irland – Die Magie der grünen Insel mit Olaf Schubert am Mittwoch\, 19. Februar 2025\, 20 Uhr im Gemeindezentrum Heiligkreuz in der Zellerau\, Hartmannstraße 29. Karten in VVK bei Foto Weber in der Schustergasse\, bei der Tourist-Info im Falkenhaus\, im Reisebüro Reiseland in der Spiegelstraße und bei der Touristinfo Veitshöchheim. Mehr Info und Online-Tickets: www.die-welt-in-bildern.com
URL:https://wob24.net/event/vortragsreihe-die-welt-in-bildern-irland/
LOCATION:Gemeindezentrum Heiligkreuz\, Hartmannstraße 29\, Würzburg
CATEGORIES:Vortrag
ATTACH;FMTTYPE=image/jpeg:https://wob24.net/wp-content/uploads/2025/02/PR-Caselmann-Irland.jpg
END:VEVENT
END:VCALENDAR