BEGIN:VCALENDAR
VERSION:2.0
PRODID:-//wob Würzburgs Wochenzeitung - ECPv6.15.18//NONSGML v1.0//EN
CALSCALE:GREGORIAN
METHOD:PUBLISH
X-ORIGINAL-URL:https://wob24.net
X-WR-CALDESC:Veranstaltungen für wob Würzburgs Wochenzeitung
REFRESH-INTERVAL;VALUE=DURATION:PT1H
X-Robots-Tag:noindex
X-PUBLISHED-TTL:PT1H
BEGIN:VTIMEZONE
TZID:Europe/Berlin
BEGIN:DAYLIGHT
TZOFFSETFROM:+0100
TZOFFSETTO:+0200
TZNAME:CEST
DTSTART:20240331T010000
END:DAYLIGHT
BEGIN:STANDARD
TZOFFSETFROM:+0200
TZOFFSETTO:+0100
TZNAME:CET
DTSTART:20241027T010000
END:STANDARD
BEGIN:DAYLIGHT
TZOFFSETFROM:+0100
TZOFFSETTO:+0200
TZNAME:CEST
DTSTART:20250330T010000
END:DAYLIGHT
BEGIN:STANDARD
TZOFFSETFROM:+0200
TZOFFSETTO:+0100
TZNAME:CET
DTSTART:20251026T010000
END:STANDARD
BEGIN:DAYLIGHT
TZOFFSETFROM:+0100
TZOFFSETTO:+0200
TZNAME:CEST
DTSTART:20260329T010000
END:DAYLIGHT
BEGIN:STANDARD
TZOFFSETFROM:+0200
TZOFFSETTO:+0100
TZNAME:CET
DTSTART:20261025T010000
END:STANDARD
END:VTIMEZONE
BEGIN:VEVENT
DTSTART;TZID=Europe/Berlin:20251024T193000
DTEND;TZID=Europe/Berlin:20251024T193000
DTSTAMP:20260422T190305
CREATED:20251020T120732Z
LAST-MODIFIED:20251020T120738Z
UID:25907-1761334200-1761334200@wob24.net
SUMMARY:Lange Schatten in dunkler Nacht: Führung für Nachtschwärmer durch die mittelalterliche Altstadt von Dettelbach
DESCRIPTION:Am letzten Wochenende im Oktober führen die Dettelbacher Gästeführerinnen Gerti Höfling\, Gudrun Kosch und Alice Schiller Nachtschwärmer durch die mittelalterliche Altstadt von Dettelbach. \nGenießen Sie den dämmerigen Abend im mittelalterlichen Städtchen Dettelbach. Nachtwandeln Sie durch die bewegte Geschichte und lassen Sie sich über unsere Stadtmauer und durch die schmalen Gassen führen. Dunkle Geschichten vom getöteten Müller und von aufrührerischen Bauern lassen Schauer über den Rücken laufen. \nAn ungewöhnlichen Orten wird den Gästen „reiner Wein“ eingeschenkt und sie werden in die Welt der Sinne entführt. Ein Erlebnis der besonderen Art\, welches die Stadt bei Nacht in einem vollkommen anderen Licht erscheinen lässt. \nWie immer im Herbst findet die Führung am Abend der Zeitumstellung statt. Dieses Jahr wird es zum 25. Jubiläum des Gästeführer-Vereins Weinerlebnis Franken einen Zusatztermin geben. Am Freitag\, 24. Oktober und Samstag\, 25. Oktober 2025\, beginnt die Führung jeweils um 19.30 Uhr am Faltertor in Dettelbach. Kosten: 17 Euro pro Person inklusive Wein und Waser. \nUm Anmeldung bei Alice Schiller\, Tel. 09324-982826 oder Gerti Höfling\, Tel. 09324-1494 oder über trio-gaestef@gmx.de wird gebeten. \nAlle aktuellen Informationen zu Führungen finden Sie auch hier: www.dettelbach-entdecken.de \nFoto Gerlinde  Schadl
URL:https://wob24.net/event/lange-schatten-in-dunkler-nacht-fuehrung-fuer-nachtschwaermer-durch-die-mittelalterliche-altstadt-von-dettelbach/
LOCATION:Dettelbach\, Dettelbach
CATEGORIES:Führung
ATTACH;FMTTYPE=image/jpeg:https://wob24.net/wp-content/uploads/2025/10/Veranstaltung-Fuehrung-Dettelbach.jpg
END:VEVENT
BEGIN:VEVENT
DTSTART;TZID=Europe/Berlin:20251025T193000
DTEND;TZID=Europe/Berlin:20251025T193000
DTSTAMP:20260422T190305
CREATED:20251020T121203Z
LAST-MODIFIED:20251020T121746Z
UID:25910-1761420600-1761420600@wob24.net
SUMMARY:Lange Schatten in dunkler Nacht: Führung für Nachtschwärmer durch die mittelalterliche Altstadt von Dettelbach
DESCRIPTION:Am letzten Wochenende im Oktober führen die Dettelbacher Gästeführerinnen Gerti Höfling\, Gudrun Kosch und Alice Schiller Nachtschwärmer durch die mittelalterliche Altstadt von Dettelbach. \nGenießen Sie den dämmerigen Abend im mittelalterlichen Städtchen Dettelbach. Nachtwandeln Sie durch die bewegte Geschichte und lassen Sie sich über unsere Stadtmauer und durch die schmalen Gassen führen. Dunkle Geschichten vom getöteten Müller und von aufrührerischen Bauern lassen Schauer über den Rücken laufen. \nAn ungewöhnlichen Orten wird den Gästen „reiner Wein“ eingeschenkt und sie werden in die Welt der Sinne entführt. Ein Erlebnis der besonderen Art\, welches die Stadt bei Nacht in einem vollkommen anderen Licht erscheinen lässt. \nWie immer im Herbst findet die Führung am Abend der Zeitumstellung statt. Dieses Jahr wird es zum 25. Jubiläum des Gästeführer-Vereins Weinerlebnis Franken einen Zusatztermin geben. Am Freitag\, 24. Oktober und Samstag\, 25. Oktober 2025\, beginnt die Führung jeweils um 19.30 Uhr am Faltertor in Dettelbach. Kosten: 17 Euro pro Person inklusive Wein und Waser. \nUm Anmeldung bei Alice Schiller\, Tel. 09324-982826 oder Gerti Höfling\, Tel. 09324-1494 oder über trio-gaestef@gmx.de wird gebeten. \nAlle aktuellen Informationen zu Führungen finden Sie auch hier: www.dettelbach-entdecken.de \nFoto Gerlinde  Schadl
URL:https://wob24.net/event/lange-schatten-in-dunkler-nacht-fuehrung-fuer-nachtschwaermer-durch-die-mittelalterliche-altstadt-von-dettelbach-2/
LOCATION:Dettelbach\, Dettelbach
CATEGORIES:Führung
ATTACH;FMTTYPE=image/jpeg:https://wob24.net/wp-content/uploads/2025/10/Veranstaltung-Fuehrung-Dettelbach.jpg
END:VEVENT
END:VCALENDAR