BEGIN:VCALENDAR
VERSION:2.0
PRODID:-//wob Würzburgs Wochenzeitung - ECPv6.15.18//NONSGML v1.0//EN
CALSCALE:GREGORIAN
METHOD:PUBLISH
X-ORIGINAL-URL:https://wob24.net
X-WR-CALDESC:Veranstaltungen für wob Würzburgs Wochenzeitung
REFRESH-INTERVAL;VALUE=DURATION:PT1H
X-Robots-Tag:noindex
X-PUBLISHED-TTL:PT1H
BEGIN:VTIMEZONE
TZID:Europe/Berlin
BEGIN:DAYLIGHT
TZOFFSETFROM:+0100
TZOFFSETTO:+0200
TZNAME:CEST
DTSTART:20230326T010000
END:DAYLIGHT
BEGIN:STANDARD
TZOFFSETFROM:+0200
TZOFFSETTO:+0100
TZNAME:CET
DTSTART:20231029T010000
END:STANDARD
BEGIN:DAYLIGHT
TZOFFSETFROM:+0100
TZOFFSETTO:+0200
TZNAME:CEST
DTSTART:20240331T010000
END:DAYLIGHT
BEGIN:STANDARD
TZOFFSETFROM:+0200
TZOFFSETTO:+0100
TZNAME:CET
DTSTART:20241027T010000
END:STANDARD
BEGIN:DAYLIGHT
TZOFFSETFROM:+0100
TZOFFSETTO:+0200
TZNAME:CEST
DTSTART:20250330T010000
END:DAYLIGHT
BEGIN:STANDARD
TZOFFSETFROM:+0200
TZOFFSETTO:+0100
TZNAME:CET
DTSTART:20251026T010000
END:STANDARD
END:VTIMEZONE
BEGIN:VEVENT
DTSTART;TZID=Europe/Berlin:20241130T160000
DTEND;TZID=Europe/Berlin:20241130T160000
DTSTAMP:20260423T133152
CREATED:20241113T101656Z
LAST-MODIFIED:20241113T101703Z
UID:22806-1732982400-1732982400@wob24.net
SUMMARY:Dettelbacher Advents-Stationen am ersten Adventswochenende
DESCRIPTION:Alle Jahre wieder finden am 1. Adventswochenende die Dettelbacher Advents-Stationen statt. Dieses Jahr sorgen am Samstag\, 30. November und Sonntag\, 1. Dezember zahlreiche weihnachtliche Stationen für besinnliche Stunden in der historischen Weinstadt am Main. \nBereits am Freitag\, 29. November führt die Nachtwächterfrau durch die Gassen Dettelbachs. Begleiten Sie die Nachtwächterin auf ihrem täglichen Arbeitsweg über die Stadtmauer und lassen Sie sich an ungewöhnlichen Orten „reinen Wein“ einschenken. \nDie Eröffnung der Advents-Stationen findet am Samstag um 16 Uhr auf dem Marktplatz statt. Der erste Bürgermeister Matthias Bielek bringt den Nikolaus und die Weihnachtsengel mit. Alle Kinder sind aufgerufen\, Christbaumschmuck für den Christbaum am Marktplatz zu basteln. Als Dankeschön gibt es dafür natürlich ein kleines Geschenk vom Nikolaus. Die Dettelbacher Musikanten spielen zur Eröffnung und besuchen anschließend einzelne Stationen. Kerzenschein und leuchtende Sterne weisen den Weg durch das festlich geschmückte Städtchen. \nKein Jahr ist wie das andere\nIn diesem Jahr gibt es an den Stationen eine Menge zum Entdecken\, Staunen und Genießen. Neben Winzern und Gewerbetreibenden öffnen auch Privatpersonen ihre Höfe und Keller um die Besucher\, ob jung oder alt in weihnachtliche Stimmung zu versetzen. \nFür das leibliche Wohl ist an diesem Wochenende bestens gesorgt: Winzerglühwein und Kinderpunsch am Feuerkorb\, selbstgemachte Suppen in wohliger Umgebung\, die einzigartigen Muskatzinen und andere Leckereien treffen sicher auch Ihren Geschmack. Handarbeiten und Selbstgemachtes verleihen den Advents-Stationen eine besonders persönliche Note: ob Selbstgenähtes\, Gebasteltes oder Gestricktes\, verschiedenste Genussartikel oder Weihnachtsdekoration – alles in liebevoller Detailarbeit hergestellt und teilweise für den guten Zweck. \nEin buntes Familienprogramm\nIn Zusammenarbeit mit der Jugendarbeit Dettelbach und der Stadtbibliothek wurde ein buntes Familienprogramm zusammengestellt. Das Bilderbuchkino im KUK\, eine Modelleisenbahn\, ein Märchenspaziergang durch die Stadt und kleine Bastelaktionen versüßen den kleinen Besuchern den Besuch der Advents-Stationen. Im Kindergarten St. Maria ist der Kasperl mit seinen Freunden zu Besuch\, und am Marktplatz dreht sich das Kinderkarussell. In der Stadtpfarrkirche St. Augustinus erwarten die Besucher einige musikalische Highlights: Adventskonzert von Kindern für Kinder\, sowie Geigenmusik des Ensembles \,\,fantastic forte‘‘. Echte Schmiedevorführungen am Samstag und Sonntag runden das Adventswochenende ab. \nDie Dettelbacher Advents-Stationen sind ein echter Geheimtipp\, um entlang des stimmungsvollen Lichterweges auch in diesem Jahr viele Teilnehmer\, Höfe und Highlights zu entdecken – kein Jahr ist wie das andere. \nDas offizielle Programm startet am Samstag um 16 Uhr. Am Sonntag können die Stationen bereits ab 14 Uhr besucht werden. \nDie Broschüre mit dem kompletten Programm ist ab Anfang November im KUK am Rathausplatz 6 in Dettelbach erhältlich. Alle Informationen und die Broschüre zum Download finden Sie dann auch hier: www.dettelbach-entdecken.de
URL:https://wob24.net/event/dettelbacher-advents-stationen-am-ersten-adventswochenende/
LOCATION:Dettelbach\, Dettelbach
CATEGORIES:Advent
ATTACH;FMTTYPE=image/jpeg:https://wob24.net/wp-content/uploads/2024/11/PR-Dettelbach-Advents-Stationen.jpg
END:VEVENT
END:VCALENDAR