BEGIN:VCALENDAR
VERSION:2.0
PRODID:-//wob Würzburgs Wochenzeitung - ECPv6.15.18//NONSGML v1.0//EN
CALSCALE:GREGORIAN
METHOD:PUBLISH
X-ORIGINAL-URL:https://wob24.net
X-WR-CALDESC:Veranstaltungen für wob Würzburgs Wochenzeitung
REFRESH-INTERVAL;VALUE=DURATION:PT1H
X-Robots-Tag:noindex
X-PUBLISHED-TTL:PT1H
BEGIN:VTIMEZONE
TZID:Europe/Berlin
BEGIN:DAYLIGHT
TZOFFSETFROM:+0100
TZOFFSETTO:+0200
TZNAME:CEST
DTSTART:20240331T010000
END:DAYLIGHT
BEGIN:STANDARD
TZOFFSETFROM:+0200
TZOFFSETTO:+0100
TZNAME:CET
DTSTART:20241027T010000
END:STANDARD
BEGIN:DAYLIGHT
TZOFFSETFROM:+0100
TZOFFSETTO:+0200
TZNAME:CEST
DTSTART:20250330T010000
END:DAYLIGHT
BEGIN:STANDARD
TZOFFSETFROM:+0200
TZOFFSETTO:+0100
TZNAME:CET
DTSTART:20251026T010000
END:STANDARD
BEGIN:DAYLIGHT
TZOFFSETFROM:+0100
TZOFFSETTO:+0200
TZNAME:CEST
DTSTART:20260329T010000
END:DAYLIGHT
BEGIN:STANDARD
TZOFFSETFROM:+0200
TZOFFSETTO:+0100
TZNAME:CET
DTSTART:20261025T010000
END:STANDARD
END:VTIMEZONE
BEGIN:VEVENT
DTSTART;TZID=Europe/Berlin:20250504T110000
DTEND;TZID=Europe/Berlin:20250504T170000
DTSTAMP:20260420T233457
CREATED:20250428T161435Z
LAST-MODIFIED:20250428T161602Z
UID:24323-1746356400-1746378000@wob24.net
SUMMARY:Internationales Kinderfest
DESCRIPTION:Die DAHW Deutsche Lepra- und Tuberkulosehilfe lädt zum 47. Internationalen Kinderfest in Würzburg ein! An diesem Sonntag\, 4. Mai\, ist von 11 bis 17 Uhr an vielen bunten Ständen wieder Großartiges geboten. \nOb Glücksrad oder Gummibärchen-Katapult\, ob Kistenstapeln oder Superhelden-Parcours\, ob Kinderschminken oder Bücherflohmarkt – es ist für jeden Geschmack etwas dabei. Es gibt zwei Bühnen mit einem bunten Programm und zum ersten Mal ist der KiKa mit zwei großen Shows auf dem Kinderfest vertreten. Im Rathausinnenhof findet erneut der Parcours von „Kinder stark machen“ statt. \nDAHW-Projekt für Kinder in Togo\nDas Allerbeste: Das Fest\, veranstaltet von der DAHW Deutsche Lepra- und Tuberkulosehilfe sowie ihren Kooperationspartnern\, dem BR-Regionalstudio Mainfranken und der Stadt Würzburg\, kommt nicht nur Kindern und Familien aus der Region zugute\, die dort gemeinsam einen tollen Tag verbringen können. Es dient\, wie in jedem Jahr\, auch einem guten Zweck: Der Inhalt der aufgestellten Spendendosen unterstützt ein DAHW-Projekt in Togo\, damit sich in dem westafrikanischen Land bald keine Kinder mehr mit Lepra anstecken. \nFür alle Radel-Begeisterten gibt es in diesem Jahr zudem die Möglichkeit\, mit Muskelkraft Gutes zu tun: Am DAHW-Stand auf dem Oberen Markt können Kinder und Erwachsene ganz unkompliziert am Stadtradeln teilnehmen. Auf fest installierten Rädern wird gestrampelt\, um die Marke von einer Million Kilometern zu knacken und damit die Stadtwette des Oberbürgermeisters zu gewinnen. Würzburger Unternehmen – beispielsweise die Sparkasse Mainfranken Würzburg und Moenus Steuerberatung – belohnen die Anstrengung als Sponsoren. Auch diese Mittel unterstützen Kinder in Togo dabei\, die Krankheit Lepra hinter sich zu lassen.
URL:https://wob24.net/event/internationales-kinderfest-wuerzburg-2025/
LOCATION:Würzburger Innenstadt
CATEGORIES:Kinderfest
ATTACH;FMTTYPE=image/jpeg:https://wob24.net/wp-content/uploads/2025/04/PR-Kinderfest-1.jpg
END:VEVENT
END:VCALENDAR