BEGIN:VCALENDAR
VERSION:2.0
PRODID:-//wob Würzburgs Wochenzeitung - ECPv6.15.18//NONSGML v1.0//EN
CALSCALE:GREGORIAN
METHOD:PUBLISH
X-WR-CALNAME:wob Würzburgs Wochenzeitung
X-ORIGINAL-URL:https://wob24.net
X-WR-CALDESC:Veranstaltungen für wob Würzburgs Wochenzeitung
REFRESH-INTERVAL;VALUE=DURATION:PT1H
X-Robots-Tag:noindex
X-PUBLISHED-TTL:PT1H
BEGIN:VTIMEZONE
TZID:Europe/Berlin
BEGIN:DAYLIGHT
TZOFFSETFROM:+0100
TZOFFSETTO:+0200
TZNAME:CEST
DTSTART:20250330T010000
END:DAYLIGHT
BEGIN:STANDARD
TZOFFSETFROM:+0200
TZOFFSETTO:+0100
TZNAME:CET
DTSTART:20251026T010000
END:STANDARD
BEGIN:DAYLIGHT
TZOFFSETFROM:+0100
TZOFFSETTO:+0200
TZNAME:CEST
DTSTART:20260329T010000
END:DAYLIGHT
BEGIN:STANDARD
TZOFFSETFROM:+0200
TZOFFSETTO:+0100
TZNAME:CET
DTSTART:20261025T010000
END:STANDARD
BEGIN:DAYLIGHT
TZOFFSETFROM:+0100
TZOFFSETTO:+0200
TZNAME:CEST
DTSTART:20270328T010000
END:DAYLIGHT
BEGIN:STANDARD
TZOFFSETFROM:+0200
TZOFFSETTO:+0100
TZNAME:CET
DTSTART:20271031T010000
END:STANDARD
END:VTIMEZONE
BEGIN:VEVENT
DTSTART;VALUE=DATE:20260426
DTEND;VALUE=DATE:20260427
DTSTAMP:20260426T013126
CREATED:20260216T105027Z
LAST-MODIFIED:20260216T105038Z
UID:26825-1777161600-1777247999@wob24.net
SUMMARY:Würzburger Residenzlauf
DESCRIPTION:Laufen liegt als Volkssport weiter voll im Trend – und davon profitiert auch der Würzburger Residenzlauf. Die Organisatoren freuen sich über stark rekordverdächtige Anmeldezahlen. \nAm Sonntag\, 26. April steigt das große Residenzlauf-Fest rund ums Weltkulturerbe – ein ganzer Tag Sport\, Spaß\, Information und Unterhaltung vom ersten Lauf um 10:30 Uhr bis gegen 18 Uhr. Der Lauf rund um die Würzburger Residenz erfreut sich großer Beliebtheit: So liegen die Anmeldezahlen für den Hauptlauf (zehn Kilometer) rund 30 Prozent  über dem Vorjahr\, beim AOK-Firmenlauf sind es sogar 50 Prozent. Veranstaltungsleiter Reinhard Peter prognostiziert: „Dieses Jahr werden wir die 9.000-Teilnehmer-Marke wohl knacken.“ \nKindergärten und Schulen: Mitlaufen!\nGrundsätzlich soll sich aber bei Unterfrankens größter Breitensportveranstaltung – 2024 gingen rund 8.100 Sportlerinnen und Sportler an den Start\, 2025 war das bisherige Rekordjahr mit 8.972 Teilnehmern – wenig ändern: Die Laufreihenfolge bleibt gleich\, lediglich der Lauf der Schulen (L4) startet zehn Minuten früher\, um der großen Menge an Schülerinnen und Schülern mit noch mehr Blockstarts besser gerecht zu werden. \nEs gibt auch erneut keine Preiserhöhung. Das gilt natürlich auch für die beliebten Schüler- und Kindergartenläufe. Zum Preis von 2 Euro pro teilnehmendem Kind und Jugendlichen können die Gruppen (ab sechs Teilnehmer) an den Start gehen\, inklusive Teilnehmershirt. Beim Lauf der Kindergärten dürfen Begleitpersonen (z.B. die Eltern) offiziell und kostenlos mitlaufen. Voraussetzung ist ein Eintrag in die Begleitpersonen-Liste. \nWichtig: Die Schul- und Kindergarten-Laufgruppen können auch durch Eltern organisiert und angemeldet werden. Meldungen für den Lauf der Schulen und Kindergärten sind bis spätestens Freitag\, 27. März möglich. \nVom Hobbylauf bis zum Lauf der Asse\nIm Rahmen des AOK-Firmenlaufs wird wieder die 5-km-Strecke angeboten. Dennoch kann jede Firma nach den Laufstärken ihrer Mitarbeiter auswählen\, ob diese jeweils über 2\,5 km\, 5 km oder 10 km an den Start gehen wollen. \nIm letzten Jahr waren über 500 Studenten beim Residenzlauf dabei. Auch dieses Jahr sind wieder Verlosungen geplant unter den Fakultäten\, die sich an den jeweiligen Teilnehmerzahlen orientieren. \nAm Ende fällt wieder der Startschuss für den „Lauf der Asse“ mit vielen regionalen Top-Läufern. Starten dürfen wie in den Vorjahren Läuferinnen und Läufer\, die eine erforderliche Bestzeit (Männer 39:00\, Frauen 45:00) aus früheren Rennen nachweisen können\, dafür aber keine Startgebühr zahlen müssen. Voraussichtlich sind Domenika Mayer\, mehrfache Deutsche Meisterin und Mannschafts-Europameisterin\, und der Vorjahressieger Edwin Kipto Kibet aus Kenia wieder am Start. \nJetzt anmelden: So können Sie dabei sein\nDer Online-Voranmeldschluss ohne zusätzliche Nachmeldegebühr ist am 16. April 2026. Die Online-Nachmeldefrist endet am 23. April um 12 Uhr. Allerletzte Nachmeldungen sind am Laufsonntag ab 9 Uhr auf dem Residenzplatz möglich. Sämtliche Teilnehmer erhalten auch 2026 als Finisher-Prämie das offizielle Residenzlauf-Shirt\, gestiftet von Decathlon. \nGruppen und Firmen können sich wieder per Sammelanmeldung und mit Gesamtrechnung registrieren. Wer Unterstützung bei der Anmeldung oder Rechnungserstellung braucht\, kann sich an das Residenzlaufbüro unter (0931) 809928-90 oder per E-Mail an buero@residenzlauf.de wenden. \nWeitere Info und Anmeldemöglichkeiten: www.residenzlauf.de \n\n10:30 Uhr – L1 Schnupperlauf (0\,6 km) für Kinder\, 9 Euro bzw. 11 Euro (mit Zeitmessung)\n10:45 Uhr – L2a Kindergartenlauf A (0\,6 km)\, Zieleinlauf auf dem Residenzplatz\n11:10 Uhr – L2b Kindergartenlauf B (0\,6 km)\, Zieleinlauf auf dem Residenzplatz\n11:30 Uhr – L3 Bambinilauf (1 km)\, 9 bzw. 11 Euro\n11:50 Uhr – L4 Lauf der Schulen (1 km)\n12:30 Uhr – L5 No-Limits-Lauf (2\,5 km)\, Kinder/Jugendliche 9 bzw. 11 Euro\, Erwachsene 17 bzw. 22 Euro\n12:35 Uhr – L6 Lauf der Schulen (2\,5 km)\n13:15 Uhr – L7 AOK-Firmenlauf (5\,0 km)\, Jugendliche 12 bzw. 14 Euro\, Erwachsene 20 bzw. 25 Euro\n14:15 Uhr – L8 Hauptlauf (10 km)\, Jugendliche 14 bzw. 16 Euro\, Erwachsene 22 bzw. 27 Euro\n15:45 Uhr – L9 Lauf der Asse (10 km)
URL:https://wob24.net/event/wuerzburger-residenzlauf/
LOCATION:Residenzplatz\, Würzburg
CATEGORIES:Sport
ATTACH;FMTTYPE=image/jpeg:https://wob24.net/wp-content/uploads/2026/02/Residenzlauf-2026.jpg
END:VEVENT
BEGIN:VEVENT
DTSTART;TZID=Europe/Berlin:20260426T110000
DTEND;TZID=Europe/Berlin:20260426T173000
DTSTAMP:20260426T013126
CREATED:20260423T103936Z
LAST-MODIFIED:20260423T104021Z
UID:27238-1777201200-1777224600@wob24.net
SUMMARY:Frühling International
DESCRIPTION:Am Sonntag\, 26. April 2026\, feiert die Stadt Würzburg von 11 bis 17:30 Uhr den „Frühling International“. Unter dem Motto „Wir feiern die Vielfalt!“ findet die beliebte Veranstaltung im Landesgartenschaupark von 1990 unterhalb der Festung Marienberg bereits zum 25. Mal statt. Oberbürgermeister Martin Heilig eröffnet den „Frühling International 2025“ um 12 Uhr am Pavillon am Rosengarten. \nBereits seit 1998 findet der Frühling International auf dem 1990er Landesgartenschaugelände statt. Die ursprüngliche Idee war\, die anlässlich der Gartenschau gestalteten Partnerschaftsgärten weiterhin zu nutzen. Während sich in den Anfangsjahren nur Vereine mit Bezug zu Würzburgs Partnerstädten beteiligt haben\, sind dies heute die verschiedensten Kulturen aus aller Welt\, die in Würzburg leben und die Stadt so bunt und vielfältig machen. \nZum Anlass des 25. Jubiläums in diesem Jahr gestalten die beiden Würzburger Künstler Nici Tierak und Philipp Rau ein großformatiges Bild\, das auf dem Gelände dauerhaft an den Frühling International erinnern wird. \nEröffnung eines neuen Partnerschaftsgartens\nEin Highlight in diesem Jahr ist die Eröffnung des neuen Partnerschaftsgartens für Würzburgs jüngste Städtepartnerschaft mit der ukrainischen Stadt Lviv. Der Garten wurde gemeinsam vom Gartenamt der Stadt Würzburg mit der Partnerstadt Lviv geplant und umgesetzt. \nDer Lviv-Garten befindet sich zwischen dem Schottischen Highland-Garten und dem Totempfahl\, der zum Rochester-Garten gehört. Die feierliche Einweihung durch OB Heilig und Vertreter der Stadt Lviv findet um 13 Uhr statt. \n60 Jahre Partnerschaft mit Mwanza\nAußerdem steht dieses Jahr das 60. Partnerschaftsjubiläum mit Mwanza (Tansania) im Vordergrund der Veranstaltung. Der Partnerschaftsverein M.W.A.N.Z.A. e.V. informiert am Stand im Mwanza-Garten über die langjährigen Verbindungen und die zahlreichen Partnerschaftsprojekte. Darüber hinaus gibt es fairen Partnerkaffee und tansanische Spezialitäten. \nIn Zusammenarbeit mit dem Büro Würzburg International der Stadt präsentieren etwa 30 Internationale Gesellschaften\, Migrantenorganisationen und Vereine die Kultur ihrer Heimatländer. Neben langjährigen Teilnehmern\, wie zum Beispiel die Deutsch-Finnische Gesellschaft oder die NAMASTE Indian Association\, sind in diesem Jahr auch einige neue Gruppen dabei\, beispielsweise die Initiative Africa und der Verein ViO – Voises in One. \nVon kulinarischen Köstlichkeiten über Musik und Tanz bis hin zu Kunsthandwerk ist für jeden Geschmack etwas dabei. Auch für Familien ist etwas geboten: Beim Ausländer- und Integrationsbeirat der Stadt Würzburg gibt es ein Märchenzelt\, und viele Gesellschaften bieten landestypische Spiele für die kleinen Besucherinnen und Besucher an. \nBei der Veranstaltung wird konsequent auf Einweggeschirr verzichtet. Um das Parkgelände und die Umwelt zu schonen\, werden die Besucher gebeten\, ihr eigenes wiederverwendbares Geschirr und Besteck mitzubringen. An einer Spülstation kann das benutzte Geschirr abgespült werden. Die Anreise wird mit öffentlichen Verkehrsmitteln\, zu Fuß oder mit dem Rad empfohlen. \nFoto Ugur Yurdagül
URL:https://wob24.net/event/fruehling-international/
LOCATION:Landesgartenschaugelände von 1990 unterhalb der Festung\, Würzburg
CATEGORIES:Sommerfest
ATTACH;FMTTYPE=image/jpeg:https://wob24.net/wp-content/uploads/2026/04/Fruehling-International-1.jpg
END:VEVENT
END:VCALENDAR